BEGIN:VCALENDAR
VERSION:2.0
PRODID:-//carboncountydepotgallery.org//NONSGML kigkonsult.se iCalcreator 2
 .30.10//
CALSCALE:GREGORIAN
METHOD:PUBLISH
UID:7d359d45-8d7f-45f8-ad99-ba5234254795
X-WR-CALDESC:
X-WR-RELCALID:c1c9261acdee7855276c93e80752032d
X-WR-TIMEZONE:America/Denver
BEGIN:VTIMEZONE
TZID:America/Denver
BEGIN:STANDARD
TZNAME:MST
DTSTART:20211107T020000
TZOFFSETFROM:-0600
TZOFFSETTO:-0700
RDATE:20221106T020000
RDATE:20231105T020000
END:STANDARD
BEGIN:DAYLIGHT
TZNAME:MDT
DTSTART:20220313T020000
TZOFFSETFROM:-0700
TZOFFSETTO:-0600
RDATE:20230312T020000
END:DAYLIGHT
END:VTIMEZONE
BEGIN:VEVENT
UID:5d62ece7-492e-430f-9204-2240c01e2ed4
DTSTAMP:20260421T074514Z
DESCRIPTION:
DTSTART;TZID=America/Denver:20220905T120000
DTEND;TZID=America/Denver:20220905T140000
LOCATION:
SUMMARY:LDAF GAZEBO Music by Charlie Brandine
END:VEVENT
END:VCALENDAR
