BEGIN:VCALENDAR
VERSION:2.0
PRODID:-//carboncountydepotgallery.org//NONSGML kigkonsult.se iCalcreator 2
 .30.10//
CALSCALE:GREGORIAN
METHOD:PUBLISH
UID:ddef5a83-bec3-4650-8958-58d76925140f
X-WR-CALDESC:Meet local artists Janice Polzin and Battista Eaton. They will
  be in the gazebo demonstrating their painting and drawing techniques.
X-WR-RELCALID:0908f69383e5bd7f97857777d051934f
X-WR-TIMEZONE:America/Denver
BEGIN:VTIMEZONE
TZID:America/Denver
BEGIN:STANDARD
TZNAME:MST
DTSTART:20211107T020000
TZOFFSETFROM:-0600
TZOFFSETTO:-0700
RDATE:20221106T020000
RDATE:20231105T020000
END:STANDARD
BEGIN:DAYLIGHT
TZNAME:MDT
DTSTART:20220313T020000
TZOFFSETFROM:-0700
TZOFFSETTO:-0600
RDATE:20230312T020000
END:DAYLIGHT
END:VTIMEZONE
BEGIN:VEVENT
UID:77356644-9a25-4cd7-9435-f8599b785e3b
DTSTAMP:20260421T073549Z
DESCRIPTION:Meet local artists Janice Polzin and Battista Eaton. They will 
 be in the gazebo demonstrating their painting and drawing techniques.
DTSTART;TZID=America/Denver:20220905T140000
DTEND;TZID=America/Denver:20220905T160000
LOCATION:
SUMMARY:LDAF GAZEBO Painting with Janice Polzin & Battista Eaton
END:VEVENT
END:VCALENDAR
