BEGIN:VCALENDAR
VERSION:2.0
PRODID:-//carboncountydepotgallery.org//NONSGML kigkonsult.se iCalcreator 2
 .30.10//
CALSCALE:GREGORIAN
METHOD:PUBLISH
UID:9ae1bfc1-5d5c-414e-8647-d23fa86191b3
X-WR-CALDESC:Local artist Marcia Selsor will show how to work with clay.  T
 his is free and open to the public during the Labor Day Arts Fair.
X-WR-RELCALID:f9e5784efa49dfd5715b5799dbd3295f
X-WR-TIMEZONE:America/Denver
BEGIN:VTIMEZONE
TZID:America/Denver
BEGIN:STANDARD
TZNAME:MST
DTSTART:20211107T020000
TZOFFSETFROM:-0600
TZOFFSETTO:-0700
RDATE:20221106T020000
RDATE:20231105T020000
END:STANDARD
BEGIN:DAYLIGHT
TZNAME:MDT
DTSTART:20220313T020000
TZOFFSETFROM:-0700
TZOFFSETTO:-0600
RDATE:20230312T020000
END:DAYLIGHT
END:VTIMEZONE
BEGIN:VEVENT
UID:5b3e30a4-a65c-4821-aa05-ad3a34068744
DTSTAMP:20260421T073718Z
DESCRIPTION:Local artist Marcia Selsor will show how to work with clay.  Th
 is is free and open to the public during the Labor Day Arts Fair.
DTSTART;TZID=America/Denver:20220905T090000
DTEND;TZID=America/Denver:20220905T110000
LOCATION:
SUMMARY:LDAF GAZEBO Pottery Demonstration with Marcia Selsor
END:VEVENT
END:VCALENDAR
