BEGIN:VCALENDAR
VERSION:2.0
PRODID:-//carboncountydepotgallery.org//NONSGML kigkonsult.se iCalcreator 2
 .30.10//
CALSCALE:GREGORIAN
METHOD:PUBLISH
UID:a6f32390-957d-4af4-8c09-8c00f7823cb2
X-WR-CALDESC:Join us to see the art in the main and north galleries as well
  as in the retail store. And while here visit with Guild member artist Dan
 a Zier. She will demonstrate lino cut block printing. Guests may even have
  a chance to pull their own print.
X-WR-RELCALID:b43071924842b928408aa7eba393c85c
X-WR-TIMEZONE:America/Denver
BEGIN:VTIMEZONE
TZID:America/Denver
BEGIN:STANDARD
TZNAME:MST
DTSTART:20211107T020000
TZOFFSETFROM:-0600
TZOFFSETTO:-0700
RDATE:20221106T020000
RDATE:20231105T020000
END:STANDARD
BEGIN:DAYLIGHT
TZNAME:MDT
DTSTART:20220313T020000
TZOFFSETFROM:-0700
TZOFFSETTO:-0600
RDATE:20230312T020000
RDATE:20240310T020000
END:DAYLIGHT
END:VTIMEZONE
BEGIN:VEVENT
UID:3697ad20-d493-42cb-9703-2a88b07988be
DTSTAMP:20260421T074257Z
DESCRIPTION:Join us to see the art in the main and north galleries as well 
 as in the retail store. And while here visit with Guild member artist Dana
  Zier. She will demonstrate lino cut block printing. Guests may even have 
 a chance to pull their own print.
DTSTART;TZID=America/Denver:20220910T150000
DTEND;TZID=America/Denver:20220910T200000
LOCATION:
SUMMARY:ART WALK
END:VEVENT
END:VCALENDAR
