BEGIN:VCALENDAR
VERSION:2.0
PRODID:-//carboncountydepotgallery.org//NONSGML kigkonsult.se iCalcreator 2
 .30.10//
CALSCALE:GREGORIAN
METHOD:PUBLISH
UID:c5cd6878-d7ce-4603-bf7d-720bbee2958f
X-WR-CALDESC:This exhibition will feature work from the Beartooth Plein Air
  Society and the Stillwater Society.\n\nThe Stillwater Society is a group 
 of artists who gather regularly for mutual support and to view each other’
 s work in progress. Formed in 1985 by five local artists\, they took their
  name from the Rock Creek\, East Rosebud\, and Stillwater river areas. Mou
 ntain landscapes and the ranch country provided a rich source of subject m
 atter for their paintings. \n\nThe Beartooth Plein Air Society works en Pl
 ein Air\, which is the act of painting outdoors. This is where an artist i
 nterprets through their medium their impression of their surroundings. The
  group of artists meet each day for a week at a different location to pain
 t on site.\n\nParticipating artists in these shows include\, Ev Bergeron\,
  Erin Brindle\, Connie Herberg\, Jackie Inman\, Jerry Inman\, David Kewitt
 \, Elizabeth LaRowe\, Helen Mackay\, Diana Mysse\, Dorci Newman Tremblay\,
  Janice Polzin\, Lynnsey Slanina\, Shirley Shirley\, Robert Tompkins and G
 illan Wang.\n\nThis exhibition is sponsored by the Carbon County Arts Guil
 d & Depot Gallery which is supported in part by grants from the Montana Ar
 ts Council\, the Coal Tax Trust Fund for Cultural and Aesthetic Projects\,
  and the National Endowment for the Arts.\n\nThe Carbon County Arts Guild 
 & Depot Gallery provides access to art\, supports artistic expression\, an
 d encourages creative experiences for the  enrichment of our communities.
 \n
X-WR-RELCALID:4a375e4f480ac8d782c8cd417be17353
X-WR-TIMEZONE:America/Denver
BEGIN:VTIMEZONE
TZID:America/Denver
BEGIN:STANDARD
TZNAME:MST
DTSTART:20211107T020000
TZOFFSETFROM:-0600
TZOFFSETTO:-0700
RDATE:20221106T020000
RDATE:20231105T020000
END:STANDARD
BEGIN:DAYLIGHT
TZNAME:MDT
DTSTART:20220313T020000
TZOFFSETFROM:-0700
TZOFFSETTO:-0600
RDATE:20230312T020000
END:DAYLIGHT
END:VTIMEZONE
BEGIN:VEVENT
UID:4ebbb1c3-cef7-4676-b001-38d3812269cc
DTSTAMP:20260421T074024Z
DESCRIPTION:This exhibition will feature work from the Beartooth Plein Air 
 Society and the Stillwater Society.\n\nThe Stillwater Society is a group o
 f artists who gather regularly for mutual support and to view each other’s
  work in progress. Formed in 1985 by five local artists\, they took their 
 name from the Rock Creek\, East Rosebud\, and Stillwater river areas. Moun
 tain landscapes and the ranch country provided a rich source of subject ma
 tter for their paintings. \n\nThe Beartooth Plein Air Society works en Ple
 in Air\, which is the act of painting outdoors. This is where an artist in
 terprets through their medium their impression of their surroundings. The 
 group of artists meet each day for a week at a different location to paint
  on site.\n\nParticipating artists in these shows include\, Ev Bergeron\, 
 Erin Brindle\, Connie Herberg\, Jackie Inman\, Jerry Inman\, David Kewitt\
 , Elizabeth LaRowe\, Helen Mackay\, Diana Mysse\, Dorci Newman Tremblay\, 
 Janice Polzin\, Lynnsey Slanina\, Shirley Shirley\, Robert Tompkins and Gi
 llan Wang.\n\nThis exhibition is sponsored by the Carbon County Arts Guild
  & Depot Gallery which is supported in part by grants from the Montana Art
 s Council\, the Coal Tax Trust Fund for Cultural and Aesthetic Projects\, 
 and the National Endowment for the Arts.\n\nThe Carbon County Arts Guild &
  Depot Gallery provides access to art\, supports artistic expression\, and
  encourages creative experiences for the  enrichment of our communities.\n
DTSTART;TZID=America/Denver:20220902T000000
DTEND;TZID=America/Denver:20221029T235900
LOCATION:
SUMMARY:Beartooth Plein Air and Stillwater Society Art Show
END:VEVENT
END:VCALENDAR
