BEGIN:VCALENDAR
VERSION:2.0
PRODID:-//carboncountydepotgallery.org//NONSGML kigkonsult.se iCalcreator 2
 .30.10//
CALSCALE:GREGORIAN
METHOD:PUBLISH
UID:9f7605b0-6e0c-4d7e-b29c-096960d34439
X-WR-CALDESC:Carbon County Arts Guild & Depot Gallery organizes exhibitions
  for it's members. This year we decided to celebrate the beauty of Yellows
 tone National Park and create an exhibition with Yellowstone as the theme.
  \n\nArtists included in the exhibition are: CE Allen\, Maggie Bassett\, D
 iane Browder\, Eleanor Guerrero\, Carol Hartman\, Connie Herberg\, Mary Ho
 pper\, Kim Kapalka\, David Kewitt\, Christine Kimball\, Michael Koski\, Mi
 chael Kosorok\, Elizabeth LaRowe\, Judi Liner\, Susan Lyons\, Dorci Newman
  Tremblay\, Cat Pentescu\, Victoria Porter\, Jean Posusta\, John Potter\, 
 Randall Rasmussen\, Carrie Alicia Rhett\, Shirley Shirley\, Shawn Stewart\
 , Lou Taylor\, and Dana Zier.\n\nThis exhibition is sponsored by the Carbo
 n County Arts Guild & Depot Gallery which is supported in part by grants f
 rom the Montana Arts Council\, the Coal Tax Trust Fund for Cultural and Ae
 sthetic Projects\, and the National Endowment for the Arts.\n\nThe Carbon 
 County Arts Guild & Depot Gallery provides access to art\, supports artist
 ic expression\, and encourages creative experiences for the  enrichment of
  our communities.
X-WR-RELCALID:08504647adfc46bd67f4f496da21ae62
X-WR-TIMEZONE:America/Denver
BEGIN:VTIMEZONE
TZID:America/Denver
BEGIN:STANDARD
TZNAME:MST
DTSTART:20211107T020000
TZOFFSETFROM:-0600
TZOFFSETTO:-0700
RDATE:20221106T020000
RDATE:20231105T020000
END:STANDARD
BEGIN:DAYLIGHT
TZNAME:MDT
DTSTART:20220313T020000
TZOFFSETFROM:-0700
TZOFFSETTO:-0600
RDATE:20230312T020000
END:DAYLIGHT
END:VTIMEZONE
BEGIN:VEVENT
UID:057eeb8b-5a64-468a-9006-8fd7f16bb292
DTSTAMP:20260421T073909Z
DESCRIPTION:Carbon County Arts Guild & Depot Gallery organizes exhibitions 
 for it's members. This year we decided to celebrate the beauty of Yellowst
 one National Park and create an exhibition with Yellowstone as the theme. 
 \n\nArtists included in the exhibition are: CE Allen\, Maggie Bassett\, Di
 ane Browder\, Eleanor Guerrero\, Carol Hartman\, Connie Herberg\, Mary Hop
 per\, Kim Kapalka\, David Kewitt\, Christine Kimball\, Michael Koski\, Mic
 hael Kosorok\, Elizabeth LaRowe\, Judi Liner\, Susan Lyons\, Dorci Newman 
 Tremblay\, Cat Pentescu\, Victoria Porter\, Jean Posusta\, John Potter\, R
 andall Rasmussen\, Carrie Alicia Rhett\, Shirley Shirley\, Shawn Stewart\,
  Lou Taylor\, and Dana Zier.\n\nThis exhibition is sponsored by the Carbon
  County Arts Guild & Depot Gallery which is supported in part by grants fr
 om the Montana Arts Council\, the Coal Tax Trust Fund for Cultural and Aes
 thetic Projects\, and the National Endowment for the Arts.\n\nThe Carbon C
 ounty Arts Guild & Depot Gallery provides access to art\, supports artisti
 c expression\, and encourages creative experiences for the  enrichment of 
 our communities.
DTSTART;TZID=America/Denver:20220902T000000
DTEND;TZID=America/Denver:20221029T235900
LOCATION:
SUMMARY:Yellowstone: A Group Exhibition
END:VEVENT
END:VCALENDAR
