BEGIN:VCALENDAR
VERSION:2.0
PRODID:-//carboncountydepotgallery.org//NONSGML kigkonsult.se iCalcreator 2
 .30.10//
CALSCALE:GREGORIAN
METHOD:PUBLISH
UID:e2b95626-d839-41a4-8d9e-0ca439d8129a
X-WR-CALDESC:With the success of last year's 8x8 Exhibition we decided to d
 o it again. This exhibition features the work of Guild members whether the
 y show in the retail space year round or only enjoy participating in speci
 al member shows.  \n\nEach piece is 8' x 8' in size. Subject matter varies
 . Buy a piece for your home\, cabin\, or as a gift. This is a cash and car
 ry exhibition meaning people are welcome to buy the piece and take it home
  on the spot. Shipping options are available. Don’t wait because pieces ge
 t sold every day.\n\nParticipating artists include: Maggie Bassett\, Jim B
 uti\, Kathryn Daley\, Linda Franson\, Diane Greenwood\, Carol Hartman\, El
 len Herminghaus\, Mary Hopper\, Abby King\, Jacquie Kittson\, Elizabeth La
 Rowe\, Susan Lyons\, Helen Mackay\, Terri Malucci\, Bruce Marty\, Annie Mc
 Coy\, Janet Moczar-Buti\, Dorci Newman Tremblay\, Pat Olding\, Louise Payo
 vich\, Cat Pentescu\, Janice Polzin\, Jean Posusta\, Sydney Rajchel\, Marc
 ia Selsor\, Lou Taylor\, Richard Wallace\, Gillan Wang\, Randy Wiethorn\, 
 and Tom Wolfe. \n\n\nOpening Reception: 3-5 p.m. / Saturday\, November 19 
 / Light refreshments / Free and open to the public\n\nThis exhibition is s
 ponsored by the Carbon County Arts Guild & Depot Gallery which is supporte
 d in part by grants from the Montana Arts Council\, the Coal Tax Trust Fun
 d for Cultural and Aesthetic Projects\, and the National Endowment for the
  Arts.\n\nThe Carbon County Arts Guild & Depot Gallery provides access to 
 art\, supports artistic expression\, and encourages creative experiences f
 or the enrichment of our communities.\n\n
X-WR-RELCALID:0245d7feb94c75dd407701307d6aada2
X-WR-TIMEZONE:America/Denver
BEGIN:VTIMEZONE
TZID:America/Denver
BEGIN:STANDARD
TZNAME:MST
DTSTART:20211107T020000
TZOFFSETFROM:-0600
TZOFFSETTO:-0700
RDATE:20221106T020000
RDATE:20231105T020000
END:STANDARD
BEGIN:DAYLIGHT
TZNAME:MDT
DTSTART:20220313T020000
TZOFFSETFROM:-0700
TZOFFSETTO:-0600
RDATE:20230312T020000
RDATE:20240310T020000
END:DAYLIGHT
END:VTIMEZONE
BEGIN:VEVENT
UID:fcf49ac3-6efc-4ce2-9356-d649337afb90
DTSTAMP:20260424T123252Z
DESCRIPTION:With the success of last year's 8x8 Exhibition we decided to do
  it again. This exhibition features the work of Guild members whether they
  show in the retail space year round or only enjoy participating in specia
 l member shows.  \n\nEach piece is 8' x 8' in size. Subject matter varies.
  Buy a piece for your home\, cabin\, or as a gift. This is a cash and carr
 y exhibition meaning people are welcome to buy the piece and take it home 
 on the spot. Shipping options are available. Don’t wait because pieces get
  sold every day.\n\nParticipating artists include: Maggie Bassett\, Jim Bu
 ti\, Kathryn Daley\, Linda Franson\, Diane Greenwood\, Carol Hartman\, Ell
 en Herminghaus\, Mary Hopper\, Abby King\, Jacquie Kittson\, Elizabeth LaR
 owe\, Susan Lyons\, Helen Mackay\, Terri Malucci\, Bruce Marty\, Annie McC
 oy\, Janet Moczar-Buti\, Dorci Newman Tremblay\, Pat Olding\, Louise Payov
 ich\, Cat Pentescu\, Janice Polzin\, Jean Posusta\, Sydney Rajchel\, Marci
 a Selsor\, Lou Taylor\, Richard Wallace\, Gillan Wang\, Randy Wiethorn\, a
 nd Tom Wolfe. \n\n\nOpening Reception: 3-5 p.m. / Saturday\, November 19 /
  Light refreshments / Free and open to the public\n\nThis exhibition is sp
 onsored by the Carbon County Arts Guild & Depot Gallery which is supported
  in part by grants from the Montana Arts Council\, the Coal Tax Trust Fund
  for Cultural and Aesthetic Projects\, and the National Endowment for the 
 Arts.\n\nThe Carbon County Arts Guild & Depot Gallery provides access to a
 rt\, supports artistic expression\, and encourages creative experiences fo
 r the enrichment of our communities.\n\n
DTSTART;TZID=America/Denver:20221104T000000
DTEND;TZID=America/Denver:20221231T235900
LOCATION:
SUMMARY:8x8 Exhibition
END:VEVENT
END:VCALENDAR
