BEGIN:VCALENDAR
VERSION:2.0
PRODID:-//carboncountydepotgallery.org//NONSGML kigkonsult.se iCalcreator 2
 .30.10//
CALSCALE:GREGORIAN
METHOD:PUBLISH
UID:7587ee15-f161-4d9f-9d39-7b20f3d9a22d
X-WR-CALDESC:Shop local at the Carbon County Arts Guild & Depot Gallery whe
 re you will find great art and fine crafts by 100's of regional artists. 
 \n\nThis year the Red Lodge Area Chamber of Commerce chose art by Dana Zie
 r for the Christmas Stroll poster. See more of Dana's work at the Carbon C
 ounty Arts Guild & Depot Gallery\, 11 W 8th Street\, where Dana is a Guild
  member.
X-WR-RELCALID:5ee9ae65ad13aabc51cc03f69d2933ba
X-WR-TIMEZONE:America/Denver
BEGIN:VTIMEZONE
TZID:America/Denver
BEGIN:STANDARD
TZNAME:MST
DTSTART:20221106T020000
TZOFFSETFROM:-0600
TZOFFSETTO:-0700
RDATE:20231105T020000
END:STANDARD
BEGIN:DAYLIGHT
TZNAME:MDT
DTSTART:20220313T020000
TZOFFSETFROM:-0700
TZOFFSETTO:-0600
RDATE:20230312T020000
RDATE:20240310T020000
END:DAYLIGHT
END:VTIMEZONE
BEGIN:VEVENT
UID:b2c29889-9cb2-4ebd-bbd3-33d54d255a6f
DTSTAMP:20260424T104136Z
DESCRIPTION:Shop local at the Carbon County Arts Guild & Depot Gallery wher
 e you will find great art and fine crafts by 100's of regional artists. \n
 \nThis year the Red Lodge Area Chamber of Commerce chose art by Dana Zier 
 for the Christmas Stroll poster. See more of Dana's work at the Carbon Cou
 nty Arts Guild & Depot Gallery\, 11 W 8th Street\, where Dana is a Guild m
 ember.
DTSTART;TZID=America/Denver:20221202T100000
DTEND;TZID=America/Denver:20221202T200000
LOCATION:
SUMMARY:Christmas Stroll
END:VEVENT
END:VCALENDAR
