BEGIN:VCALENDAR
VERSION:2.0
PRODID:-//carboncountydepotgallery.org//NONSGML kigkonsult.se iCalcreator 2
 .30.10//
CALSCALE:GREGORIAN
METHOD:PUBLISH
UID:ca50391f-fb66-44c6-ad2d-66a8bfbce599
X-WR-CALDESC:Open Studio is a 'drop-in' program that offers a great way to 
 spend time honing your drawing skills at your own pace. A live model will 
 be present. Bring your favorite drawing tools and a sketch pad. \n\nCost i
 s $5\; free for Guild members\nRegistration is not required. For informati
 on call 406-446-1370.\n\nThe Carbon County Arts Guild & Depot Gallery prov
 ides access to art\, supports artistic expression\, and encourages creativ
 e experiences for the enrichment of our community.\n\nThis program is orga
 nized by the Carbon County Arts Guild & Depot Gallery which is supported i
 n part by grants from the Montana Arts Council\, the Coal Tax Trust Fund f
 or Cultural and Aesthetic Projects\, and the National Endowment for the Ar
 ts.\n
X-WR-RELCALID:37d0e614031f3801b5c4c45bf1da3d51
X-WR-TIMEZONE:America/Denver
BEGIN:VTIMEZONE
TZID:America/Denver
BEGIN:STANDARD
TZNAME:MST
DTSTART:20221106T020000
TZOFFSETFROM:-0600
TZOFFSETTO:-0700
RDATE:20231105T020000
END:STANDARD
BEGIN:DAYLIGHT
TZNAME:MDT
DTSTART:20220313T020000
TZOFFSETFROM:-0700
TZOFFSETTO:-0600
RDATE:20230312T020000
RDATE:20240310T020000
END:DAYLIGHT
END:VTIMEZONE
BEGIN:VEVENT
UID:223c48f7-a9a4-44e9-99c6-22772848506c
DTSTAMP:20260424T104029Z
DESCRIPTION:Open Studio is a 'drop-in' program that offers a great way to s
 pend time honing your drawing skills at your own pace. A live model will b
 e present. Bring your favorite drawing tools and a sketch pad. \n\nCost is
  $5\; free for Guild members\nRegistration is not required. For informatio
 n call 406-446-1370.\n\nThe Carbon County Arts Guild & Depot Gallery provi
 des access to art\, supports artistic expression\, and encourages creative
  experiences for the enrichment of our community.\n\nThis program is organ
 ized by the Carbon County Arts Guild & Depot Gallery which is supported in
  part by grants from the Montana Arts Council\, the Coal Tax Trust Fund fo
 r Cultural and Aesthetic Projects\, and the National Endowment for the Art
 s.\n
DTSTART;TZID=America/Denver:20221218T140000
DTEND;TZID=America/Denver:20221218T160000
LOCATION:
SUMMARY:OPEN STUDIO Figure Drawing
END:VEVENT
END:VCALENDAR
