BEGIN:VCALENDAR
VERSION:2.0
PRODID:-//carboncountydepotgallery.org//NONSGML kigkonsult.se iCalcreator 2
 .30.10//
CALSCALE:GREGORIAN
METHOD:PUBLISH
UID:da635c35-796e-4b65-9713-d09c9e4b1465
X-WR-CALDESC:Join us for the opening reception of two terrific exhibitions.
  In the main gallery view 'Dark Sky Visions' and in the north gallery view
  'Deep Space: Art by Russell Walks.'\n\nA gallery talk will be given by a 
 few of the 'Dark Sky Visions' artists at 5 p.m. \n\nThis event is free and
  open to the public. Refreshments will be provided courtesy of the Red Lod
 ge Dark Skies committee and the Carbon County Arts Guild.
X-WR-RELCALID:935cfbfda6c9894313732b3f4375285f
X-WR-TIMEZONE:America/Denver
BEGIN:VTIMEZONE
TZID:America/Denver
BEGIN:STANDARD
TZNAME:MST
DTSTART:20221106T020000
TZOFFSETFROM:-0600
TZOFFSETTO:-0700
RDATE:20231105T020000
END:STANDARD
BEGIN:DAYLIGHT
TZNAME:MDT
DTSTART:20220313T020000
TZOFFSETFROM:-0700
TZOFFSETTO:-0600
RDATE:20230312T020000
RDATE:20240310T020000
END:DAYLIGHT
END:VTIMEZONE
BEGIN:VEVENT
UID:e8d1aea6-f29c-421f-8230-e86d2efafdca
DTSTAMP:20260422T085935Z
DESCRIPTION:Join us for the opening reception of two terrific exhibitions. 
 In the main gallery view 'Dark Sky Visions' and in the north gallery view 
 'Deep Space: Art by Russell Walks.'\n\nA gallery talk will be given by a f
 ew of the 'Dark Sky Visions' artists at 5 p.m. \n\nThis event is free and 
 open to the public. Refreshments will be provided courtesy of the Red Lodg
 e Dark Skies committee and the Carbon County Arts Guild.
DTSTART;TZID=America/Denver:20230107T160000
DTEND;TZID=America/Denver:20230107T180000
LOCATION:
SUMMARY:RECEPTION for Dark Sky Visions & Deep Space Exhibitions
END:VEVENT
END:VCALENDAR
