BEGIN:VCALENDAR
VERSION:2.0
PRODID:-//carboncountydepotgallery.org//NONSGML kigkonsult.se iCalcreator 2
 .30.10//
CALSCALE:GREGORIAN
METHOD:PUBLISH
UID:216e9395-e38c-4cd1-879b-67608ce9c554
X-WR-CALDESC:Bring your favorite drawing tools and sketch pad to the north 
 gallery/classroom at the Carbon County Arts Guild & Depot Gallery. During 
 this drop-in session we provide a model so you can draw at your own pace. 
 Quick gesture sketches and short to long poses are determined by the parti
 cipants. The casual atmosphere is a great way to hone your skills while be
 ing with other creative people. \n\nFREE for Guild members\, $5 for others
 . No registration required.
X-WR-RELCALID:d5db7307ac95b921298aacca8a006db5
X-WR-TIMEZONE:America/Denver
BEGIN:VTIMEZONE
TZID:America/Denver
BEGIN:STANDARD
TZNAME:MST
DTSTART:20221106T020000
TZOFFSETFROM:-0600
TZOFFSETTO:-0700
RDATE:20231105T020000
END:STANDARD
BEGIN:DAYLIGHT
TZNAME:MDT
DTSTART:20220313T020000
TZOFFSETFROM:-0700
TZOFFSETTO:-0600
RDATE:20230312T020000
RDATE:20240310T020000
END:DAYLIGHT
END:VTIMEZONE
BEGIN:VEVENT
UID:1e3df718-6c55-4d21-b087-c9f2fff6343a
DTSTAMP:20260422T085023Z
DESCRIPTION:Bring your favorite drawing tools and sketch pad to the north g
 allery/classroom at the Carbon County Arts Guild & Depot Gallery. During t
 his drop-in session we provide a model so you can draw at your own pace. Q
 uick gesture sketches and short to long poses are determined by the partic
 ipants. The casual atmosphere is a great way to hone your skills while bei
 ng with other creative people. \n\nFREE for Guild members\, $5 for others.
  No registration required.
DTSTART;TZID=America/Denver:20230115T140000
DTEND;TZID=America/Denver:20230115T160000
LOCATION:
SUMMARY:OPEN STUDIO: Figure Drawing
END:VEVENT
END:VCALENDAR
