BEGIN:VCALENDAR
VERSION:2.0
PRODID:-//carboncountydepotgallery.org//NONSGML kigkonsult.se iCalcreator 2
 .30.10//
CALSCALE:GREGORIAN
METHOD:PUBLISH
UID:c743963d-eeaf-461e-930e-e7aa71821c4c
X-WR-CALDESC:This 4-week class will be great for beginners or those with so
 me background in watercolor painting. The instructor for this class is Dol
 ly Frerichs. Participants will learn techniques through demonstrations and
  conversation. There will also be plenty of time for painting.  \n\nDolly 
 likes her students to experience the process before they invest in a lot o
 f supplies. If you have watercolor paint and brushes please bring them to 
 the class. If you don't have any kind of watercolor paint or brushes\, the
  Arts Guild will have some here to use. Then\, at the first class Dolly wi
 ll provide a list of her favorite supplies in case you want to invest more
  into this medium. Watercolor board will be provided throughout the four w
 eeks of class. \n\nClass size is limited. Registration is required. Cost i
 s $80\; $70 for Guild members.\nFor information or to register call the Ca
 rbon County Arts Guild at (406) 446-1370.
X-WR-RELCALID:514fa090673581ee1d95e7b937a38b2e
X-WR-TIMEZONE:America/Denver
BEGIN:VTIMEZONE
TZID:America/Denver
BEGIN:STANDARD
TZNAME:MST
DTSTART:20221106T020000
TZOFFSETFROM:-0600
TZOFFSETTO:-0700
RDATE:20231105T020000
END:STANDARD
BEGIN:DAYLIGHT
TZNAME:MDT
DTSTART:20220313T020000
TZOFFSETFROM:-0700
TZOFFSETTO:-0600
RDATE:20230312T020000
RDATE:20240310T020000
END:DAYLIGHT
END:VTIMEZONE
BEGIN:VEVENT
UID:9f859ff4-4321-4b24-a287-8f8c48169b7d
DTSTAMP:20260420T074506Z
DESCRIPTION:This 4-week class will be great for beginners or those with som
 e background in watercolor painting. The instructor for this class is Doll
 y Frerichs. Participants will learn techniques through demonstrations and 
 conversation. There will also be plenty of time for painting.  \n\nDolly l
 ikes her students to experience the process before they invest in a lot of
  supplies. If you have watercolor paint and brushes please bring them to t
 he class. If you don't have any kind of watercolor paint or brushes\, the 
 Arts Guild will have some here to use. Then\, at the first class Dolly wil
 l provide a list of her favorite supplies in case you want to invest more 
 into this medium. Watercolor board will be provided throughout the four we
 eks of class. \n\nClass size is limited. Registration is required. Cost is
  $80\; $70 for Guild members.\nFor information or to register call the Car
 bon County Arts Guild at (406) 446-1370.
DTSTART;TZID=America/Denver:20230218T100000
DTEND;TZID=America/Denver:20230218T113000
LOCATION:
SUMMARY:FULL -Watercolor Class
END:VEVENT
END:VCALENDAR
