BEGIN:VCALENDAR
VERSION:2.0
PRODID:-//carboncountydepotgallery.org//NONSGML kigkonsult.se iCalcreator 2
 .30.10//
CALSCALE:GREGORIAN
METHOD:PUBLISH
UID:f55f28e5-250b-4636-90c0-7c56f8a05430
X-WR-CALDESC:Bring your sketchbook and favorite drawing materials to Open S
 tudio Figure Drawing. We provide a model to draw from and the poses vary t
 hroughout the two-hour session. It is great way to hone your skills at you
 r own pace while being with other creative people. \n\nOpen Studio is FREE
  for Carbon County Arts Guild members\; $5 for non-members. This is a walk
 -in session. Registration is not needed. \n\nIf you have questions\, give 
 us a call. (406) 446-1370.\n
X-WR-RELCALID:e1d974ef9c962c6a09bb4af3c261bea0
X-WR-TIMEZONE:America/Denver
BEGIN:VTIMEZONE
TZID:America/Denver
BEGIN:STANDARD
TZNAME:MST
DTSTART:20221106T020000
TZOFFSETFROM:-0600
TZOFFSETTO:-0700
RDATE:20231105T020000
END:STANDARD
BEGIN:DAYLIGHT
TZNAME:MDT
DTSTART:20220313T020000
TZOFFSETFROM:-0700
TZOFFSETTO:-0600
RDATE:20230312T020000
RDATE:20240310T020000
END:DAYLIGHT
END:VTIMEZONE
BEGIN:VEVENT
UID:abc13764-d873-4521-a4b4-9157d55ff9aa
DTSTAMP:20260420T074106Z
DESCRIPTION:Bring your sketchbook and favorite drawing materials to Open St
 udio Figure Drawing. We provide a model to draw from and the poses vary th
 roughout the two-hour session. It is great way to hone your skills at your
  own pace while being with other creative people. \n\nOpen Studio is FREE 
 for Carbon County Arts Guild members\; $5 for non-members. This is a walk-
 in session. Registration is not needed. \n\nIf you have questions\, give u
 s a call. (406) 446-1370.\n
DTSTART;TZID=America/Denver:20230219T140000
DTEND;TZID=America/Denver:20230219T160000
LOCATION:
SUMMARY:OPEN STUDIO Figure Drawing
END:VEVENT
END:VCALENDAR
