BEGIN:VCALENDAR
VERSION:2.0
PRODID:-//carboncountydepotgallery.org//NONSGML kigkonsult.se iCalcreator 2
 .30.10//
CALSCALE:GREGORIAN
METHOD:PUBLISH
UID:83f8b1ad-6aa2-413b-b544-f05810ca080a
X-WR-CALDESC:January 7 through February 25\, 2023\, view 'Dark Sky Visions'
  exhibition in the main gallery at the Carbon County Arts Guild & Depot Ga
 llery.  'Dark Sky Visions' features seven notable artists with amazing pho
 tographic work of the night skies. Artists include John Ashley (Rio Rico\,
  AZ)\, Jeremy Battles (Red Lodge\, MT)\, Mervin D. Coleman (Red Lodge\, MT
 )\, Mark S. Moak (Billings\, MT)\, Heidi Pinkerton (Hibbing\, MN)\, Ben Sh
 erman (Billings\, MT)\, and Dave Shumway (Sheridan\, WY). \n\nEach artist 
 hopes their night time inspired imagery will bring awareness and encourage
  people to understand the importance of protecting our skies from light po
 llution. In addition\, the artists hope to educate the public about the wo
 rk being done locally by the Red Lodge Dark Skies committee to make Red Lo
 dge a designated International Dark Sky Community. \n\nOPENING RECEPTION: 
 Saturday\, January 7\, 2023 / 4-6 p.m. / 5 p.m. is a Gallery Talk by 'Dark
  Sky' artists. This event is free and open to the public. Refreshments wil
 l be courtesy of the Red Lodge Dark Skies committee and the Carbon County 
 Arts Guild. \n\nThis exhibition is sponsored by the Carbon County Arts Gui
 ld & Depot Gallery which is supported in part by grants from the Montana A
 rts Council\, the Coal Tax Trust Fund for Cultural and Aesthetic Projects\
 , and the National Endowment for the Arts.\n\nThe Carbon County Arts Guild
  & Depot Gallery provides access to art\, supports artistic expression\, a
 nd encourages creative experiences for the  enrichment of our communities.
X-WR-RELCALID:85d126fcd87d970106083c01525daad3
X-WR-TIMEZONE:America/Denver
BEGIN:VTIMEZONE
TZID:America/Denver
BEGIN:STANDARD
TZNAME:MST
DTSTART:20221106T020000
TZOFFSETFROM:-0600
TZOFFSETTO:-0700
RDATE:20231105T020000
END:STANDARD
BEGIN:DAYLIGHT
TZNAME:MDT
DTSTART:20220313T020000
TZOFFSETFROM:-0700
TZOFFSETTO:-0600
RDATE:20230312T020000
RDATE:20240310T020000
END:DAYLIGHT
END:VTIMEZONE
BEGIN:VEVENT
UID:e0bc8a85-ac09-4da9-bb7f-37fa5fc40654
DTSTAMP:20260420T074624Z
DESCRIPTION:January 7 through February 25\, 2023\, view 'Dark Sky Visions' 
 exhibition in the main gallery at the Carbon County Arts Guild & Depot Gal
 lery.  'Dark Sky Visions' features seven notable artists with amazing phot
 ographic work of the night skies. Artists include John Ashley (Rio Rico\, 
 AZ)\, Jeremy Battles (Red Lodge\, MT)\, Mervin D. Coleman (Red Lodge\, MT)
 \, Mark S. Moak (Billings\, MT)\, Heidi Pinkerton (Hibbing\, MN)\, Ben She
 rman (Billings\, MT)\, and Dave Shumway (Sheridan\, WY). \n\nEach artist h
 opes their night time inspired imagery will bring awareness and encourage 
 people to understand the importance of protecting our skies from light pol
 lution. In addition\, the artists hope to educate the public about the wor
 k being done locally by the Red Lodge Dark Skies committee to make Red Lod
 ge a designated International Dark Sky Community. \n\nOPENING RECEPTION: S
 aturday\, January 7\, 2023 / 4-6 p.m. / 5 p.m. is a Gallery Talk by 'Dark 
 Sky' artists. This event is free and open to the public. Refreshments will
  be courtesy of the Red Lodge Dark Skies committee and the Carbon County A
 rts Guild. \n\nThis exhibition is sponsored by the Carbon County Arts Guil
 d & Depot Gallery which is supported in part by grants from the Montana Ar
 ts Council\, the Coal Tax Trust Fund for Cultural and Aesthetic Projects\,
  and the National Endowment for the Arts.\n\nThe Carbon County Arts Guild 
 & Depot Gallery provides access to art\, supports artistic expression\, an
 d encourages creative experiences for the  enrichment of our communities.
DTSTART;TZID=America/Denver:20230107T000000
DTEND;TZID=America/Denver:20230225T235900
LOCATION:
SUMMARY:DARK SKY VISIONS Photography Exhibition
END:VEVENT
END:VCALENDAR
