BEGIN:VCALENDAR
VERSION:2.0
PRODID:-//carboncountydepotgallery.org//NONSGML kigkonsult.se iCalcreator 2
 .30.10//
CALSCALE:GREGORIAN
METHOD:PUBLISH
UID:a36c21b9-2971-4073-b166-d48a89a97eb9
X-WR-CALDESC:'Deep Space' features the art of Montana artist Russell Walks 
 and explores the idea that pop-culture is about much more than lightsabers
  and laser blasts\; that it has real depth\, and that it can actually enri
 ch our lives. \n\nRussell Walks grew up in Montana\, but while his feet we
 re in the Big Sky Country\, most of the time his head was in the stars\, e
 xploring space with crew of the Starship Enterprise\, or fighting against 
 the Empire with the rebels in Star Wars. Eventually\, Walks turned his lov
 e for science-fiction and pop-culture into a career. Developing his tradit
 ional and digital illustration and design skills he created art based on t
 he stories and heroes that all of us know. This included a variety of clie
 nts ranging from Disney to D.C.\, and Kellogg’s to Coca-Cola. \n\nIn addit
 ion to Russell Walks commercial success\, he is also an accomplished paint
 er whose work has achieved both regional and national acclaim and hangs in
  private collections around the world.\n\nOpening Reception is Saturday\, 
 January 7\, 2023 from 4-6 p.m. This event is free and open to the public. 
 Refreshments will be provided courtesy of Red Lodge Dark Skies committee a
 nd the Carbon County Arts Guild. \n\nThis exhibition is sponsored by the C
 arbon County Arts Guild & Depot Gallery which is supported in part by gran
 ts from the Montana Arts Council\, the Coal Tax Trust Fund for Cultural an
 d Aesthetic Projects\, and the National Endowment for the Arts.\n\n\n
X-WR-RELCALID:8d46eae1add3d006cd43a5c79e5de549
X-WR-TIMEZONE:America/Denver
BEGIN:VTIMEZONE
TZID:America/Denver
BEGIN:STANDARD
TZNAME:MST
DTSTART:20221106T020000
TZOFFSETFROM:-0600
TZOFFSETTO:-0700
RDATE:20231105T020000
END:STANDARD
BEGIN:DAYLIGHT
TZNAME:MDT
DTSTART:20220313T020000
TZOFFSETFROM:-0700
TZOFFSETTO:-0600
RDATE:20230312T020000
RDATE:20240310T020000
END:DAYLIGHT
END:VTIMEZONE
BEGIN:VEVENT
UID:77818680-3a04-4e6a-bbf2-81159fec7122
DTSTAMP:20260420T074254Z
DESCRIPTION:'Deep Space' features the art of Montana artist Russell Walks a
 nd explores the idea that pop-culture is about much more than lightsabers 
 and laser blasts\; that it has real depth\, and that it can actually enric
 h our lives. \n\nRussell Walks grew up in Montana\, but while his feet wer
 e in the Big Sky Country\, most of the time his head was in the stars\, ex
 ploring space with crew of the Starship Enterprise\, or fighting against t
 he Empire with the rebels in Star Wars. Eventually\, Walks turned his love
  for science-fiction and pop-culture into a career. Developing his traditi
 onal and digital illustration and design skills he created art based on th
 e stories and heroes that all of us know. This included a variety of clien
 ts ranging from Disney to D.C.\, and Kellogg’s to Coca-Cola. \n\nIn additi
 on to Russell Walks commercial success\, he is also an accomplished painte
 r whose work has achieved both regional and national acclaim and hangs in 
 private collections around the world.\n\nOpening Reception is Saturday\, J
 anuary 7\, 2023 from 4-6 p.m. This event is free and open to the public. R
 efreshments will be provided courtesy of Red Lodge Dark Skies committee an
 d the Carbon County Arts Guild. \n\nThis exhibition is sponsored by the Ca
 rbon County Arts Guild & Depot Gallery which is supported in part by grant
 s from the Montana Arts Council\, the Coal Tax Trust Fund for Cultural and
  Aesthetic Projects\, and the National Endowment for the Arts.\n\n\n
DTSTART;TZID=America/Denver:20230107T000000
DTEND;TZID=America/Denver:20230225T235900
LOCATION:
SUMMARY:DEEP SPACE: ART BY RUSSELL WALKS
END:VEVENT
END:VCALENDAR
