BEGIN:VCALENDAR
VERSION:2.0
PRODID:-//carboncountydepotgallery.org//NONSGML kigkonsult.se iCalcreator 2
 .30.10//
CALSCALE:GREGORIAN
METHOD:PUBLISH
UID:bc244584-80e4-4ace-b009-319c6d8be4e0
X-WR-CALDESC:Maggy Rozycki Hiltner will give a short gallery talk about the
  exhibition Broad Spectrum.
X-WR-RELCALID:2f4613accd8341aea7f539e2e3475f82
X-WR-TIMEZONE:America/Denver
BEGIN:VTIMEZONE
TZID:America/Denver
BEGIN:STANDARD
TZNAME:MST
DTSTART:20221106T020000
TZOFFSETFROM:-0600
TZOFFSETTO:-0700
RDATE:20231105T020000
END:STANDARD
BEGIN:DAYLIGHT
TZNAME:MDT
DTSTART:20220313T020000
TZOFFSETFROM:-0700
TZOFFSETTO:-0600
RDATE:20230312T020000
RDATE:20240310T020000
END:DAYLIGHT
END:VTIMEZONE
BEGIN:VEVENT
UID:f2173cf0-ffcd-4815-8007-e133ddee7157
DTSTAMP:20260420T060632Z
DESCRIPTION:Maggy Rozycki Hiltner will give a short gallery talk about the 
 exhibition Broad Spectrum.
DTSTART;TZID=America/Denver:20230311T150000
DTEND;TZID=America/Denver:20230311T153000
LOCATION:
SUMMARY:Gallery Talk with Maggy Hiltner-Broad Spectrum
END:VEVENT
END:VCALENDAR
