BEGIN:VCALENDAR
VERSION:2.0
PRODID:-//carboncountydepotgallery.org//NONSGML kigkonsult.se iCalcreator 2
 .30.10//
CALSCALE:GREGORIAN
METHOD:PUBLISH
UID:4cdd0f5b-7212-4cc0-994d-d06af6a58802
X-WR-CALDESC:View the art and meet the artists from 1-4 p.m.\, Saturday\, M
 arch 11\, 2023. \n\nDuring the opening reception for Broad Spectrum\, art 
 quilting demonstrations will take place.  At 3 p.m. Maggy Rozycki Hiltner 
 will present a short gallery talk.  \n\nThe Broad Spectrum exhibition feat
 ures art quilts from members of the Studio Art Quilt Associates (SAQA) Mon
 tana/Idaho region. The pieces are an amazing display of color\, texture\, 
 hand stitching\, and composition.  Sarah Justice\, Paris Gibson Square Mus
 eum of Art Executive Director\, juried the work submitted for Broad Spectr
 um\, which was coordinated by Maggy Rozycki Hiltner and Montana State Univ
 ersity Billings\, Northcutt Steele Gallery. \n\nIf you miss the opening re
 ception\, visit the Carbon County Arts Guild Sunday\, March 26 from 1-3 p.
 m. for art quilt demonstrations and a gallery talk by Christine Mullaney a
 t 2 p.m.  \n\nThese events are free and open to the public. \n\nThis exhib
 ition is sponsored by the Montana Art Gallery Directors Association (MAGDA
 )\, a statewide service organization for non-profit museums & galleries\, 
 and supported in part by grants from the Montana Arts Council\, a state ag
 ency funded by the State of Montana\; coal severance taxes paid based upon
  coal mined in Montana and deposited in Montana's Cultural and Aesthetic P
 rojects Trust Fund\, and the National Endowment for the Arts.
X-WR-RELCALID:78e152bb31cc3cac5a8d56d80b6f1f03
X-WR-TIMEZONE:America/Denver
BEGIN:VTIMEZONE
TZID:America/Denver
BEGIN:STANDARD
TZNAME:MST
DTSTART:20221106T020000
TZOFFSETFROM:-0600
TZOFFSETTO:-0700
RDATE:20231105T020000
END:STANDARD
BEGIN:DAYLIGHT
TZNAME:MDT
DTSTART:20220313T020000
TZOFFSETFROM:-0700
TZOFFSETTO:-0600
RDATE:20230312T020000
RDATE:20240310T020000
END:DAYLIGHT
END:VTIMEZONE
BEGIN:VEVENT
UID:938a4e26-8af0-4018-8185-44b29573c8b7
DTSTAMP:20260420T060454Z
DESCRIPTION:View the art and meet the artists from 1-4 p.m.\, Saturday\, Ma
 rch 11\, 2023. \n\nDuring the opening reception for Broad Spectrum\, art q
 uilting demonstrations will take place.  At 3 p.m. Maggy Rozycki Hiltner w
 ill present a short gallery talk.  \n\nThe Broad Spectrum exhibition featu
 res art quilts from members of the Studio Art Quilt Associates (SAQA) Mont
 ana/Idaho region. The pieces are an amazing display of color\, texture\, h
 and stitching\, and composition.  Sarah Justice\, Paris Gibson Square Muse
 um of Art Executive Director\, juried the work submitted for Broad Spectru
 m\, which was coordinated by Maggy Rozycki Hiltner and Montana State Unive
 rsity Billings\, Northcutt Steele Gallery. \n\nIf you miss the opening rec
 eption\, visit the Carbon County Arts Guild Sunday\, March 26 from 1-3 p.m
 . for art quilt demonstrations and a gallery talk by Christine Mullaney at
  2 p.m.  \n\nThese events are free and open to the public. \n\nThis exhibi
 tion is sponsored by the Montana Art Gallery Directors Association (MAGDA)
 \, a statewide service organization for non-profit museums & galleries\, a
 nd supported in part by grants from the Montana Arts Council\, a state age
 ncy funded by the State of Montana\; coal severance taxes paid based upon 
 coal mined in Montana and deposited in Montana's Cultural and Aesthetic Pr
 ojects Trust Fund\, and the National Endowment for the Arts.
DTSTART;TZID=America/Denver:20230311T130000
DTEND;TZID=America/Denver:20230311T160000
LOCATION:
SUMMARY:OPENING Reception-Broad Spectrum 2023
END:VEVENT
END:VCALENDAR
