BEGIN:VCALENDAR
VERSION:2.0
PRODID:-//carboncountydepotgallery.org//NONSGML kigkonsult.se iCalcreator 2
 .30.10//
CALSCALE:GREGORIAN
METHOD:PUBLISH
UID:681398db-1603-4d03-85f3-caf4811acf9c
X-WR-CALDESC:Bring your favorite drawing tools and sketch pad to the north 
 gallery/classroom at the Carbon County Arts Guild & Depot Gallery. During 
 this drop-in session we provide a model so you can draw at your own pace. 
 Quick gesture sketches and short to long poses are determined by the parti
 cipants. The casual atmosphere is a great way to hone your skills while be
 ing with other creative people. \n\nFREE for Guild members\, $5 for others
 . No registration required.
X-WR-RELCALID:2afc3bebe8e6680c6ef9c42bdf4b9378
X-WR-TIMEZONE:America/Denver
BEGIN:VTIMEZONE
TZID:America/Denver
BEGIN:STANDARD
TZNAME:MST
DTSTART:20221106T020000
TZOFFSETFROM:-0600
TZOFFSETTO:-0700
RDATE:20231105T020000
END:STANDARD
BEGIN:DAYLIGHT
TZNAME:MDT
DTSTART:20230312T020000
TZOFFSETFROM:-0700
TZOFFSETTO:-0600
RDATE:20240310T020000
END:DAYLIGHT
END:VTIMEZONE
BEGIN:VEVENT
UID:c858a86e-25e6-4b92-85b6-78c3d7bc95bc
DTSTAMP:20260420T060454Z
DESCRIPTION:Bring your favorite drawing tools and sketch pad to the north g
 allery/classroom at the Carbon County Arts Guild & Depot Gallery. During t
 his drop-in session we provide a model so you can draw at your own pace. Q
 uick gesture sketches and short to long poses are determined by the partic
 ipants. The casual atmosphere is a great way to hone your skills while bei
 ng with other creative people. \n\nFREE for Guild members\, $5 for others.
  No registration required.
DTSTART;TZID=America/Denver:20230319T140000
DTEND;TZID=America/Denver:20230319T160000
LOCATION:
SUMMARY:Open Studio Figure Drawing
END:VEVENT
END:VCALENDAR
