BEGIN:VCALENDAR
VERSION:2.0
PRODID:-//carboncountydepotgallery.org//NONSGML kigkonsult.se iCalcreator 2
 .30.10//
CALSCALE:GREGORIAN
METHOD:PUBLISH
UID:38dc3ffa-7f6d-4340-a881-f1ed4db73f52
X-WR-CALDESC:Learn the details of linoleum block printing with local artist
  Dana Zier. This workshop is 6-8 p.m. on Friday\, March 24 and 9 a.m.-4 p.
 m. Saturday\, March 25. During the workshop Dana will lead you through the
  printmaking process. You will design your block\, learn how to carve out 
 the image on your block and print 2-3 colors. No knowledge of printmaking 
 is needed to participate. \n\nCost is $65\; $55 for Guild members. \nAll m
 aterials are provided.\nCall the Arts Guild to register. Space is limited.
  \n\nDana Zier's linoleum block print was selected for the 2022 Christmas 
 Stroll poster. See more of Dana's prints at the Carbon County Arts Guild &
  Depot Gallery.
X-WR-RELCALID:5cb67ba3d291c87cd0f4ef3f59e37cc6
X-WR-TIMEZONE:America/Denver
BEGIN:VTIMEZONE
TZID:America/Denver
BEGIN:STANDARD
TZNAME:MST
DTSTART:20221106T020000
TZOFFSETFROM:-0600
TZOFFSETTO:-0700
RDATE:20231105T020000
END:STANDARD
BEGIN:DAYLIGHT
TZNAME:MDT
DTSTART:20230312T020000
TZOFFSETFROM:-0700
TZOFFSETTO:-0600
RDATE:20240310T020000
END:DAYLIGHT
END:VTIMEZONE
BEGIN:VEVENT
UID:1cf9f23e-26c2-4a66-810d-462e6423a7b3
DTSTAMP:20260420T074205Z
DESCRIPTION:Learn the details of linoleum block printing with local artist 
 Dana Zier. This workshop is 6-8 p.m. on Friday\, March 24 and 9 a.m.-4 p.m
 . Saturday\, March 25. During the workshop Dana will lead you through the 
 printmaking process. You will design your block\, learn how to carve out t
 he image on your block and print 2-3 colors. No knowledge of printmaking i
 s needed to participate. \n\nCost is $65\; $55 for Guild members. \nAll ma
 terials are provided.\nCall the Arts Guild to register. Space is limited. 
 \n\nDana Zier's linoleum block print was selected for the 2022 Christmas S
 troll poster. See more of Dana's prints at the Carbon County Arts Guild & 
 Depot Gallery.
DTSTART;TZID=America/Denver:20230324T000000
DTEND;TZID=America/Denver:20230325T235900
LOCATION:
SUMMARY:FULL-Linoleum Block Printing
END:VEVENT
END:VCALENDAR
