BEGIN:VCALENDAR
VERSION:2.0
PRODID:-//carboncountydepotgallery.org//NONSGML kigkonsult.se iCalcreator 2
 .30.10//
CALSCALE:GREGORIAN
METHOD:PUBLISH
UID:92970807-e4cb-462b-b9e4-24a7df3b80be
X-WR-CALDESC:Artists will be in the Depot Gallery from 1-3 p.m. to demonstr
 ate art quilt techniques. At 2 p.m. Red Lodge artist Christine Mullaney gi
 ve a brief gallery talk through the Broad Spectrum exhibition. \n\nGallery
  talk and demos are in conjunction with the Broad Spectrum exhibition on v
 iew March 6-31\, 2023.\n\nThis event is free and open to the public.\n\nBr
 oad Spectrum 2020 is a MAGDA traveling exhibition that highlights the tale
 nts and visions of Studio Art Quilt Associates in the MT/ID. region.
X-WR-RELCALID:3cb83b659961763d2327611236dcddf4
X-WR-TIMEZONE:America/Denver
BEGIN:VTIMEZONE
TZID:America/Denver
BEGIN:STANDARD
TZNAME:MST
DTSTART:20221106T020000
TZOFFSETFROM:-0600
TZOFFSETTO:-0700
RDATE:20231105T020000
END:STANDARD
BEGIN:DAYLIGHT
TZNAME:MDT
DTSTART:20230312T020000
TZOFFSETFROM:-0700
TZOFFSETTO:-0600
RDATE:20240310T020000
END:DAYLIGHT
END:VTIMEZONE
BEGIN:VEVENT
UID:06e364f9-3ebb-4dc6-b7ac-a49de3577b5e
DTSTAMP:20260420T060935Z
DESCRIPTION:Artists will be in the Depot Gallery from 1-3 p.m. to demonstra
 te art quilt techniques. At 2 p.m. Red Lodge artist Christine Mullaney giv
 e a brief gallery talk through the Broad Spectrum exhibition. \n\nGallery 
 talk and demos are in conjunction with the Broad Spectrum exhibition on vi
 ew March 6-31\, 2023.\n\nThis event is free and open to the public.\n\nBro
 ad Spectrum 2020 is a MAGDA traveling exhibition that highlights the talen
 ts and visions of Studio Art Quilt Associates in the MT/ID. region.
DTSTART;TZID=America/Denver:20230326T130000
DTEND;TZID=America/Denver:20230326T150000
LOCATION:
SUMMARY:CANCELED DUE TO WEATHER Art Quilt Demos - Broad Spectrum
END:VEVENT
END:VCALENDAR
