BEGIN:VCALENDAR
VERSION:2.0
PRODID:-//carboncountydepotgallery.org//NONSGML kigkonsult.se iCalcreator 2
 .30.10//
CALSCALE:GREGORIAN
METHOD:PUBLISH
UID:6e44862c-6238-483e-9026-bf5380b77d1e
X-WR-CALDESC:Christine Mullaney will give a brief talk about the Broad Spec
 trum exhibition.
X-WR-RELCALID:61ce47257487267d4a639cd515231459
X-WR-TIMEZONE:America/Denver
BEGIN:VTIMEZONE
TZID:America/Denver
BEGIN:STANDARD
TZNAME:MST
DTSTART:20221106T020000
TZOFFSETFROM:-0600
TZOFFSETTO:-0700
RDATE:20231105T020000
END:STANDARD
BEGIN:DAYLIGHT
TZNAME:MDT
DTSTART:20230312T020000
TZOFFSETFROM:-0700
TZOFFSETTO:-0600
RDATE:20240310T020000
END:DAYLIGHT
END:VTIMEZONE
BEGIN:VEVENT
UID:48175f0b-8cc6-4e46-b32d-fa21ce30479e
DTSTAMP:20260420T060605Z
DESCRIPTION:Christine Mullaney will give a brief talk about the Broad Spect
 rum exhibition.
DTSTART;TZID=America/Denver:20230326T140000
DTEND;TZID=America/Denver:20230326T143000
LOCATION:
SUMMARY:CANCELED DUE TO WEATHER Gallery Talk with Christine Mullaney-Broad 
 Spectrum
END:VEVENT
END:VCALENDAR
