BEGIN:VCALENDAR
VERSION:2.0
PRODID:-//carboncountydepotgallery.org//NONSGML kigkonsult.se iCalcreator 2
 .30.10//
CALSCALE:GREGORIAN
METHOD:PUBLISH
UID:ab1f5f87-57de-4a51-a53f-c461c9d08e93
X-WR-CALDESC:The exhibition Broad Spectrum is on view at the Carbon County 
 Arts Guild & Depot Gallery March 6-31\, 2023. It features art quilts from 
 members of the Montana/Idaho chapter of Studio Arts Quilts Associates\, In
 c (SAQA). Each piece explores the meaning\, images and experiences evoked 
 by the theme Broad Spectrum. \n\nThere are works 21 artists represented in
  this traveling exhibition that were selected through a blind jury process
  and organized by the Montana State University Northcutt Steele Gallery. T
 he exhibition is accompanied by a full-color catalog with artist statement
 s as well as statements by the juror\, Sarah Justice\, Executive Director 
 of the Paris Gibson Square Museum of Art\, in Great Falls\, Montana.\n\nSa
 turday\, March 11\, from 1-4 p.m. join us for the Opening Reception of Bro
 ad Spectrum. Members of SAQA will be in the gallery to demonstrate art qui
 lt techniques. A gallery talk is at 3 p.m. with Maggy Rozycki Hiltner. \n
 \nIf you miss the event on March 11\, then join us Sunday\, March 26 from 
 1-3 p.m. for demonstrations of art quilt techniques and a gallery talk at 
 2p.m. with Christine Mullaney. Both Christine and Maggy have work in the B
 road Spectrum exhibition.\n\nThis traveling exhibition is sponsored by Mon
 tana Art Gallery Directors Association which is supported in part by grant
 s from the Montana Arts Council\, the Coal Tax Trust Fund for Cultural and
  Aesthetic Projects\, and the National Endowment for the Arts.\n\nThe Carb
 on County Arts Guild & Depot Gallery provides access to art\, supports art
 istic expression\, and encourages creative experiences for the enrichment 
 of our communities.\n\n
X-WR-RELCALID:45855c08cd427ad2d784a2333b5c8457
X-WR-TIMEZONE:America/Denver
BEGIN:VTIMEZONE
TZID:America/Denver
BEGIN:STANDARD
TZNAME:MST
DTSTART:20221106T020000
TZOFFSETFROM:-0600
TZOFFSETTO:-0700
RDATE:20231105T020000
END:STANDARD
BEGIN:DAYLIGHT
TZNAME:MDT
DTSTART:20220313T020000
TZOFFSETFROM:-0700
TZOFFSETTO:-0600
RDATE:20230312T020000
RDATE:20240310T020000
END:DAYLIGHT
END:VTIMEZONE
BEGIN:VEVENT
UID:7a7a4bbd-4f26-4b84-95e9-9d5886d386f9
DTSTAMP:20260420T060626Z
DESCRIPTION:The exhibition Broad Spectrum is on view at the Carbon County A
 rts Guild & Depot Gallery March 6-31\, 2023. It features art quilts from m
 embers of the Montana/Idaho chapter of Studio Arts Quilts Associates\, Inc
  (SAQA). Each piece explores the meaning\, images and experiences evoked b
 y the theme Broad Spectrum. \n\nThere are works 21 artists represented in 
 this traveling exhibition that were selected through a blind jury process 
 and organized by the Montana State University Northcutt Steele Gallery. Th
 e exhibition is accompanied by a full-color catalog with artist statements
  as well as statements by the juror\, Sarah Justice\, Executive Director o
 f the Paris Gibson Square Museum of Art\, in Great Falls\, Montana.\n\nSat
 urday\, March 11\, from 1-4 p.m. join us for the Opening Reception of Broa
 d Spectrum. Members of SAQA will be in the gallery to demonstrate art quil
 t techniques. A gallery talk is at 3 p.m. with Maggy Rozycki Hiltner. \n\n
 If you miss the event on March 11\, then join us Sunday\, March 26 from 1-
 3 p.m. for demonstrations of art quilt techniques and a gallery talk at 2p
 .m. with Christine Mullaney. Both Christine and Maggy have work in the Bro
 ad Spectrum exhibition.\n\nThis traveling exhibition is sponsored by Monta
 na Art Gallery Directors Association which is supported in part by grants 
 from the Montana Arts Council\, the Coal Tax Trust Fund for Cultural and A
 esthetic Projects\, and the National Endowment for the Arts.\n\nThe Carbon
  County Arts Guild & Depot Gallery provides access to art\, supports artis
 tic expression\, and encourages creative experiences for the enrichment of
  our communities.\n\n
DTSTART;TZID=America/Denver:20230306T000000
DTEND;TZID=America/Denver:20230331T235900
LOCATION:
SUMMARY:Broad Spectrum - MAGDA
END:VEVENT
END:VCALENDAR
