BEGIN:VCALENDAR
VERSION:2.0
PRODID:-//carboncountydepotgallery.org//NONSGML kigkonsult.se iCalcreator 2
 .30.10//
CALSCALE:GREGORIAN
METHOD:PUBLISH
UID:9b488fb9-a999-462e-b678-c7a64a4f0174
X-WR-CALDESC:The 2023 Annual  K-8 Student Art Show will be on view April 7-
 29 in the main and north gallery of the Carbon County Arts Guild. View ove
 r 300 works by students attending school in Fishtail\, Fromberg\, Luther\,
  Nye\, Red Lodge\, and Roberts. Drawings\, paintings\, ceramics\, and coll
 age are some of the mediums on view in the show. It is a fine representati
 on from the talented youth in our communities.\n\nTwo members of the commu
 nity\, Tulsa Dean artist and owner of the Yodeler Inn and Deirdre McNamer\
 , physician\, were invited to select the top winners for each grade level.
  The winning students will receive a ribbon and art materials courtesy of 
 our sponsors: Mary Ringer Memorial and Blick Art Materials.\n\nAward List:
 \nKindergarten and 1st Grade\n2D & 3D Art Winners – Macy McGovern and Lucy
 \, Fishtail\; Lyla\, Roberts\; Evelynn Metcalf\, Gracie Derks\, Zenelle Bl
 asi and Edie Schlemmer from Fromberg. \n\n2nd Grade\n2D & 3D Art Winners –
  Raylee McGovern\, Kade and CJ from Fishtail\; Jaxsyn Pederson and Alexand
 ra from Luther\; Eli Johnson from Fromberg.\n\n3rd Grade\n2D & 3D Art Winn
 ers – Christina and Skye of Roberts\; Charlie Derks\, Fromberg\; Alina Ped
 erson\, Bodee Williams\, Alivia Pederson\, and Declan Pederson from Fishta
 il.\n\n4th Grade\n2D & 3D Art Winners – Bella Mullin\, Bo Parker\, Teagan 
 Mettes\, Ben Pape\, Arianna Deeks\, Audrey Caton\, and Ezekiaz Jensen from
  Mountain View\; Sophia Cavender from Fishtail. \n\n5th Grade\n2D & 3D Art
  Winner – Violet Marchesseau\, Nye\; Landon Pederson\, Fishtail\; Tylee Wi
 rkons\, Clara Bernhart\, Skylar Runion\, Marin Gallagher\, Zane Krohmer\, 
 Bri Beekman\, Ambrose Ray\, and Camas Flick from Mountain View.\n\n6th Gra
 de\n2D & 3D Art – Aspen Hill\, Finley Deeks\, Rylee Lammiman\, Cudahy Ryan
 \, Brenna Freeman\, Celia Bjerkness\, Daphne Scott\, Kennedi Wagner\, Finb
 ar Eaton from Roosevelt Middle School\, and Ariana Medina from Roberts.\n
 \n7th Grade\n2D & 3D Art – Kayla Krohmer\, Averi Farstvedt\, Carter & Gabe
 \, Berns Barker\, Jameson O’Shea\, Shayla Ployhar\, Josephine McPhail\, Dr
 ayke Schwandt from Roosevelt Middle School\; Breanna Cech from Fromberg\, 
 and Luella Wallila from Roberts.\n\n8th Grade\n2D & 3D Art – Rebecca Rehde
 r\, Averi Walkowiak\, Lily Daniels\, Kaidence Jensen\, Rain Indreland\, Em
 elyn Giovetti\, Evangelina Eaton\, and Carter DeRennaux from Roosevelt Mid
 dle School\; Augustine Kosel and Kallie Garcia from Roberts.\n\nCelebrate 
 the arts and stop by to check out the work. Hours are 10 a.m.-5p.m.\, Thur
 sday through Saturday and 12-4 p.m. Sunday and Monday. \n\nThis exhibition
  is organized by the Carbon County Arts Guild & Depot Gallery which is sup
 ported in part by grants from the Montana Arts Council\, the Coal Tax Trus
 t Fund for Cultural and Aesthetic Projects\, and the National Endowment fo
 r the Arts.\n\nThe Carbon County Arts Guild & Depot Gallery provides acces
 s to art\, supports artistic expression\, and encourages creative experien
 ces for the enrichment of our communities.\n
X-WR-RELCALID:eb88c8e33eaf68a7c1841b5655c93adb
X-WR-TIMEZONE:America/Denver
BEGIN:VTIMEZONE
TZID:America/Denver
BEGIN:STANDARD
TZNAME:MST
DTSTART:20221106T020000
TZOFFSETFROM:-0600
TZOFFSETTO:-0700
RDATE:20231105T020000
END:STANDARD
BEGIN:DAYLIGHT
TZNAME:MDT
DTSTART:20230312T020000
TZOFFSETFROM:-0700
TZOFFSETTO:-0600
RDATE:20240310T020000
END:DAYLIGHT
END:VTIMEZONE
BEGIN:VEVENT
UID:69446fa5-81c3-41e1-8836-5c3347fd73c2
DTSTAMP:20260420T041832Z
DESCRIPTION:The 2023 Annual  K-8 Student Art Show will be on view April 7-2
 9 in the main and north gallery of the Carbon County Arts Guild. View over
  300 works by students attending school in Fishtail\, Fromberg\, Luther\, 
 Nye\, Red Lodge\, and Roberts. Drawings\, paintings\, ceramics\, and colla
 ge are some of the mediums on view in the show. It is a fine representatio
 n from the talented youth in our communities.\n\nTwo members of the commun
 ity\, Tulsa Dean artist and owner of the Yodeler Inn and Deirdre McNamer\,
  physician\, were invited to select the top winners for each grade level. 
 The winning students will receive a ribbon and art materials courtesy of o
 ur sponsors: Mary Ringer Memorial and Blick Art Materials.\n\nAward List:
 \nKindergarten and 1st Grade\n2D & 3D Art Winners – Macy McGovern and Lucy
 \, Fishtail\; Lyla\, Roberts\; Evelynn Metcalf\, Gracie Derks\, Zenelle Bl
 asi and Edie Schlemmer from Fromberg. \n\n2nd Grade\n2D & 3D Art Winners –
  Raylee McGovern\, Kade and CJ from Fishtail\; Jaxsyn Pederson and Alexand
 ra from Luther\; Eli Johnson from Fromberg.\n\n3rd Grade\n2D & 3D Art Winn
 ers – Christina and Skye of Roberts\; Charlie Derks\, Fromberg\; Alina Ped
 erson\, Bodee Williams\, Alivia Pederson\, and Declan Pederson from Fishta
 il.\n\n4th Grade\n2D & 3D Art Winners – Bella Mullin\, Bo Parker\, Teagan 
 Mettes\, Ben Pape\, Arianna Deeks\, Audrey Caton\, and Ezekiaz Jensen from
  Mountain View\; Sophia Cavender from Fishtail. \n\n5th Grade\n2D & 3D Art
  Winner – Violet Marchesseau\, Nye\; Landon Pederson\, Fishtail\; Tylee Wi
 rkons\, Clara Bernhart\, Skylar Runion\, Marin Gallagher\, Zane Krohmer\, 
 Bri Beekman\, Ambrose Ray\, and Camas Flick from Mountain View.\n\n6th Gra
 de\n2D & 3D Art – Aspen Hill\, Finley Deeks\, Rylee Lammiman\, Cudahy Ryan
 \, Brenna Freeman\, Celia Bjerkness\, Daphne Scott\, Kennedi Wagner\, Finb
 ar Eaton from Roosevelt Middle School\, and Ariana Medina from Roberts.\n
 \n7th Grade\n2D & 3D Art – Kayla Krohmer\, Averi Farstvedt\, Carter & Gabe
 \, Berns Barker\, Jameson O’Shea\, Shayla Ployhar\, Josephine McPhail\, Dr
 ayke Schwandt from Roosevelt Middle School\; Breanna Cech from Fromberg\, 
 and Luella Wallila from Roberts.\n\n8th Grade\n2D & 3D Art – Rebecca Rehde
 r\, Averi Walkowiak\, Lily Daniels\, Kaidence Jensen\, Rain Indreland\, Em
 elyn Giovetti\, Evangelina Eaton\, and Carter DeRennaux from Roosevelt Mid
 dle School\; Augustine Kosel and Kallie Garcia from Roberts.\n\nCelebrate 
 the arts and stop by to check out the work. Hours are 10 a.m.-5p.m.\, Thur
 sday through Saturday and 12-4 p.m. Sunday and Monday. \n\nThis exhibition
  is organized by the Carbon County Arts Guild & Depot Gallery which is sup
 ported in part by grants from the Montana Arts Council\, the Coal Tax Trus
 t Fund for Cultural and Aesthetic Projects\, and the National Endowment fo
 r the Arts.\n\nThe Carbon County Arts Guild & Depot Gallery provides acces
 s to art\, supports artistic expression\, and encourages creative experien
 ces for the enrichment of our communities.\n
DTSTART;TZID=America/Denver:20230407T000000
DTEND;TZID=America/Denver:20230429T235900
LOCATION:
SUMMARY:K-8 Student Art Show
END:VEVENT
END:VCALENDAR
