BEGIN:VCALENDAR
VERSION:2.0
PRODID:-//carboncountydepotgallery.org//NONSGML kigkonsult.se iCalcreator 2
 .30.10//
CALSCALE:GREGORIAN
METHOD:PUBLISH
UID:37709885-12c5-499b-8112-69e284250249
X-WR-CALDESC:We are proud to announce the winners in the Annual Carbon Coun
 ty Arts Guild & Depot Gallery High School Student Art Show. This show feat
 ures art from the 9th-12th grade students attending Fromberg\, Joliet\, Re
 d Lodge\, and Roberts schools. Stop in at the Depot Gallery May 6-27\, 202
 3 to view paintings\, drawings\, collage\, weavings\, and sculpture create
 d by the talented youth in our community. \n\nArtist and CCAG Board of Dir
 ectors member Connie Herberg and artist Willis Johnson judged the work in 
 the show. The awards of cash and art supplies are courtesy of Blick Art Ma
 terials\, the Red Lodge Lions Club and the Mary Ringer Memorial. Below is 
 a list of the winners.\n\n2D Winners\n9th Grade - 1st Place Leo Hiltner\, 
 Red Lodge\; 2nd Place Emma Horn\, Red Lodge\; 3rd Place Chloe Bueschler\, 
 Red Lodge\nHonorable Mention: Hannah Lotz\, Red Lodge and Charlotte Kosel\
 , Roberts\n\n10th Grade - 1st Place Alex Thomas\, Red Lodge\; 2nd Place Ca
 rla Sicilia\, Roberts\; 3rd Place Natalie Krenning\, Red Lodge\nHonorable 
 Mention: Aiden Walkowiak\, Red Lodge and Annaliese Trapp\, Red Lodge\n\n11
 th Grade - 1st Place Jesse Robinson\, Red Lodge\; 2nd Place Wyatt McKeehan
 \, Joliet\; 3rd Place Taylee Chirrick\, Roberts\nHonorable Mention: Brody 
 Gebhardt\, Joliet and Ellis Mastel\, Red Lodge\n\n12th Grade – 1st Place A
 lyssa Zoutte\, Red Lodge\; 2nd Place Landon Tomlin\, Red Lodge\; 3rd Place
  Matt Evenson\, Red Lodge\nHonorable Mention: Caitlin Miller\, Joliet and 
 Heika Olson\, Red Lodge	\n \n3D Winners – 1st Place Wyatt Lowery\, 10th gra
 de Fromberg\; 2nd Place Maria\, 10th grade Roberts\; 3rd Place Sydney O'Ma
 ra 9th grade Red Lodge\nHonorable Mention: Ella McCranie\, 10th grade From
 berg and Molly Mitchell\, 10th grade Roberts\n\nThis exhibition is sponsor
 ed by the Carbon County Arts Guild & Depot Gallery which is supported in p
 art by grants from the Montana Arts Council\, the Coal Tax Trust Fund for 
 Cultural and Aesthetic Projects\, and the National Endowment for the Arts.
 \n\nThe Carbon County Arts Guild & Depot Gallery provides access to art\, 
 supports artistic expression\, and encourages creative experiences for the
  enrichment of our communities.\n
X-WR-RELCALID:05f6f8e2b58139420ceec70c5f05b8f1
X-WR-TIMEZONE:America/Denver
BEGIN:VTIMEZONE
TZID:America/Denver
BEGIN:STANDARD
TZNAME:MST
DTSTART:20221106T020000
TZOFFSETFROM:-0600
TZOFFSETTO:-0700
RDATE:20231105T020000
RDATE:20241103T020000
END:STANDARD
BEGIN:DAYLIGHT
TZNAME:MDT
DTSTART:20230312T020000
TZOFFSETFROM:-0700
TZOFFSETTO:-0600
RDATE:20240310T020000
END:DAYLIGHT
END:VTIMEZONE
BEGIN:VEVENT
UID:d754e0bc-0ef7-4244-815c-31bc941d6ec5
DTSTAMP:20260420T042043Z
DESCRIPTION:We are proud to announce the winners in the Annual Carbon Count
 y Arts Guild & Depot Gallery High School Student Art Show. This show featu
 res art from the 9th-12th grade students attending Fromberg\, Joliet\, Red
  Lodge\, and Roberts schools. Stop in at the Depot Gallery May 6-27\, 2023
  to view paintings\, drawings\, collage\, weavings\, and sculpture created
  by the talented youth in our community. \n\nArtist and CCAG Board of Dire
 ctors member Connie Herberg and artist Willis Johnson judged the work in t
 he show. The awards of cash and art supplies are courtesy of Blick Art Mat
 erials\, the Red Lodge Lions Club and the Mary Ringer Memorial. Below is a
  list of the winners.\n\n2D Winners\n9th Grade - 1st Place Leo Hiltner\, R
 ed Lodge\; 2nd Place Emma Horn\, Red Lodge\; 3rd Place Chloe Bueschler\, R
 ed Lodge\nHonorable Mention: Hannah Lotz\, Red Lodge and Charlotte Kosel\,
  Roberts\n\n10th Grade - 1st Place Alex Thomas\, Red Lodge\; 2nd Place Car
 la Sicilia\, Roberts\; 3rd Place Natalie Krenning\, Red Lodge\nHonorable M
 ention: Aiden Walkowiak\, Red Lodge and Annaliese Trapp\, Red Lodge\n\n11t
 h Grade - 1st Place Jesse Robinson\, Red Lodge\; 2nd Place Wyatt McKeehan\
 , Joliet\; 3rd Place Taylee Chirrick\, Roberts\nHonorable Mention: Brody G
 ebhardt\, Joliet and Ellis Mastel\, Red Lodge\n\n12th Grade – 1st Place Al
 yssa Zoutte\, Red Lodge\; 2nd Place Landon Tomlin\, Red Lodge\; 3rd Place 
 Matt Evenson\, Red Lodge\nHonorable Mention: Caitlin Miller\, Joliet and H
 eika Olson\, Red Lodge	\n \n3D Winners – 1st Place Wyatt Lowery\, 10th grad
 e Fromberg\; 2nd Place Maria\, 10th grade Roberts\; 3rd Place Sydney O'Mar
 a 9th grade Red Lodge\nHonorable Mention: Ella McCranie\, 10th grade Fromb
 erg and Molly Mitchell\, 10th grade Roberts\n\nThis exhibition is sponsore
 d by the Carbon County Arts Guild & Depot Gallery which is supported in pa
 rt by grants from the Montana Arts Council\, the Coal Tax Trust Fund for C
 ultural and Aesthetic Projects\, and the National Endowment for the Arts.
 \n\nThe Carbon County Arts Guild & Depot Gallery provides access to art\, 
 supports artistic expression\, and encourages creative experiences for the
  enrichment of our communities.\n
DTSTART;TZID=America/Denver:20230506T000000
DTEND;TZID=America/Denver:20230527T235900
LOCATION:
SUMMARY:High School Student Art Show
END:VEVENT
END:VCALENDAR
