BEGIN:VCALENDAR
VERSION:2.0
PRODID:-//carboncountydepotgallery.org//NONSGML kigkonsult.se iCalcreator 2
 .30.10//
CALSCALE:GREGORIAN
METHOD:PUBLISH
UID:fd36ae30-ba4e-4811-abd9-54539e95bcdc
X-WR-CALDESC:Feeling creative and want to have a bit of fun during Art Walk
 ? Stop at the Carbon County Arts Guild where we will have greeting cards s
 tations set up. Make a card for spring or Mother's Day and take it home wh
 en you are done. \nAll ages are welcome. Free and open to the public.
X-WR-RELCALID:c32618749e5f98e0690045501602390f
X-WR-TIMEZONE:America/Denver
BEGIN:VTIMEZONE
TZID:America/Denver
BEGIN:STANDARD
TZNAME:MST
DTSTART:20221106T020000
TZOFFSETFROM:-0600
TZOFFSETTO:-0700
RDATE:20231105T020000
RDATE:20241103T020000
END:STANDARD
BEGIN:DAYLIGHT
TZNAME:MDT
DTSTART:20230312T020000
TZOFFSETFROM:-0700
TZOFFSETTO:-0600
RDATE:20240310T020000
END:DAYLIGHT
END:VTIMEZONE
BEGIN:VEVENT
UID:67dea8c2-c7e1-45ee-a91c-de34ec820199
DTSTAMP:20260420T042115Z
DESCRIPTION:Feeling creative and want to have a bit of fun during Art Walk?
  Stop at the Carbon County Arts Guild where we will have greeting cards st
 ations set up. Make a card for spring or Mother's Day and take it home whe
 n you are done. \nAll ages are welcome. Free and open to the public.
DTSTART;TZID=America/Denver:20230513T150000
DTEND;TZID=America/Denver:20230513T200000
LOCATION:
SUMMARY:Art Walk - Make and Take It Greeting Cards
END:VEVENT
END:VCALENDAR
