BEGIN:VCALENDAR
VERSION:2.0
PRODID:-//carboncountydepotgallery.org//NONSGML kigkonsult.se iCalcreator 2
 .30.10//
CALSCALE:GREGORIAN
METHOD:PUBLISH
UID:ae541789-a81b-4e99-adeb-7bd4ef6f7b93
X-WR-CALDESC:Bring your favorite drawing tools and a sketch pad and we’ll p
 rovide a model to draw from. This is not a class so you can draw at your o
 wn pace while being in the company of other creative people. Cost is FREE 
 for Guild members and $5 for non-Guild members. Registration is not requir
 ed. \n\nThis program is organized by the Carbon County Arts Guild & Depot 
 Gallery which is supported in part by grants from the Montana Arts Council
 \, the Coal Tax Trust Fund for Cultural and Aesthetic Projects\, and the N
 ational Endowment for the Arts.\n\nThe Carbon County Arts Guild & Depot Ga
 llery provides access to art\, supports artistic expression\, and encourag
 es creative experiences for the enrichment of our communities.\n
X-WR-RELCALID:c12cea5af46afc31eb7994a7b7afa67a
X-WR-TIMEZONE:America/Denver
BEGIN:VTIMEZONE
TZID:America/Denver
BEGIN:STANDARD
TZNAME:MST
DTSTART:20221106T020000
TZOFFSETFROM:-0600
TZOFFSETTO:-0700
RDATE:20231105T020000
RDATE:20241103T020000
END:STANDARD
BEGIN:DAYLIGHT
TZNAME:MDT
DTSTART:20230312T020000
TZOFFSETFROM:-0700
TZOFFSETTO:-0600
RDATE:20240310T020000
END:DAYLIGHT
END:VTIMEZONE
BEGIN:VEVENT
UID:2abaa551-0fad-4edf-be2f-e4dc879d5dc1
DTSTAMP:20260420T022637Z
DESCRIPTION:Bring your favorite drawing tools and a sketch pad and we’ll pr
 ovide a model to draw from. This is not a class so you can draw at your ow
 n pace while being in the company of other creative people. Cost is FREE f
 or Guild members and $5 for non-Guild members. Registration is not require
 d. \n\nThis program is organized by the Carbon County Arts Guild & Depot G
 allery which is supported in part by grants from the Montana Arts Council\
 , the Coal Tax Trust Fund for Cultural and Aesthetic Projects\, and the Na
 tional Endowment for the Arts.\n\nThe Carbon County Arts Guild & Depot Gal
 lery provides access to art\, supports artistic expression\, and encourage
 s creative experiences for the enrichment of our communities.\n
DTSTART;TZID=America/Denver:20230521T140000
DTEND;TZID=America/Denver:20230521T160000
LOCATION:
SUMMARY:Open Studio Figure Drawing
END:VEVENT
END:VCALENDAR
