BEGIN:VCALENDAR
VERSION:2.0
PRODID:-//carboncountydepotgallery.org//NONSGML kigkonsult.se iCalcreator 2
 .30.10//
CALSCALE:GREGORIAN
METHOD:PUBLISH
UID:4421cdd0-28bd-4cac-9b83-df704f696fcb
X-WR-CALDESC:Members of the Carbon County Arts Guild are welcome to join us
  for the Chamber After Hours event on Friday\, June 9 from 5:30-7:30 p.m. 
 This will be a great time for members from both organizations to get a sne
 ak peek at the silent auction art that is up for the 50th Annual Art in th
 e Beartooths fundraiser. Many of the artists with work in the silent aucti
 on will be on hand to visit with that evening. Enjoy food\, drinks\, prize
 s\, and raffle items while socializing with friends and artists.\n\nAll bi
 dding on the silent auction art takes place online through Handbid and can
  be done from anywhere. Bidding opens June 9 at 7 p.m. during the preview 
 party and closes July 10 at 8 p.m. Follow the link below for details. \n\n
 If you can't make the Chamber After Hours and Members Preview on Friday\, 
 stop in Saturday\, June 10 when the Art in the Beartooths silent auction e
 xhibition opens to the public. \n\nOR if you want more action\, purchase a
  ticket to the Quick Finish and Live Auction for the 50th Art in the Beart
 ooths fundraiser on Saturday\, July 8. For information and too purchase ti
 ckets\, click below.\n\nIf you would like to become a member of the Carbon
  County Arts Guild & Depot Gallery click the link below.\n\n\n
X-WR-RELCALID:41e4cd08f179ac97e79a8127812746de
X-WR-TIMEZONE:America/Denver
BEGIN:VTIMEZONE
TZID:America/Denver
BEGIN:STANDARD
TZNAME:MST
DTSTART:20221106T020000
TZOFFSETFROM:-0600
TZOFFSETTO:-0700
RDATE:20231105T020000
RDATE:20241103T020000
END:STANDARD
BEGIN:DAYLIGHT
TZNAME:MDT
DTSTART:20230312T020000
TZOFFSETFROM:-0700
TZOFFSETTO:-0600
RDATE:20240310T020000
END:DAYLIGHT
END:VTIMEZONE
BEGIN:VEVENT
UID:ec670d04-1bc9-4b9a-8507-95ae9a9eb521
DTSTAMP:20260420T004918Z
DESCRIPTION:Members of the Carbon County Arts Guild are welcome to join us 
 for the Chamber After Hours event on Friday\, June 9 from 5:30-7:30 p.m. T
 his will be a great time for members from both organizations to get a snea
 k peek at the silent auction art that is up for the 50th Annual Art in the
  Beartooths fundraiser. Many of the artists with work in the silent auctio
 n will be on hand to visit with that evening. Enjoy food\, drinks\, prizes
 \, and raffle items while socializing with friends and artists.\n\nAll bid
 ding on the silent auction art takes place online through Handbid and can 
 be done from anywhere. Bidding opens June 9 at 7 p.m. during the preview p
 arty and closes July 10 at 8 p.m. Follow the link below for details. \n\nI
 f you can't make the Chamber After Hours and Members Preview on Friday\, s
 top in Saturday\, June 10 when the Art in the Beartooths silent auction ex
 hibition opens to the public. \n\nOR if you want more action\, purchase a 
 ticket to the Quick Finish and Live Auction for the 50th Art in the Bearto
 oths fundraiser on Saturday\, July 8. For information and too purchase tic
 kets\, click below.\n\nIf you would like to become a member of the Carbon 
 County Arts Guild & Depot Gallery click the link below.\n\n\n
DTSTART;TZID=America/Denver:20230609T173000
DTEND;TZID=America/Denver:20230609T193000
LOCATION:
SUMMARY:Chamber After Hours and Guild Members Sneak Preview / Art in the Be
 artooths Silent Auction Exhibition
END:VEVENT
END:VCALENDAR
