BEGIN:VCALENDAR
VERSION:2.0
PRODID:-//carboncountydepotgallery.org//NONSGML kigkonsult.se iCalcreator 2
 .30.10//
CALSCALE:GREGORIAN
METHOD:PUBLISH
UID:08683d64-2077-4005-8247-be2466677e3f
X-WR-CALDESC:Celebrate 50 Years with the Carbon County Arts Guild & Depot G
 allery and the Art in the Beartooths fundraiser. The silent auction art ex
 hibition is open to the public June 10 through July 10\, 2023 with all bid
 ding online. You can view the artwork in person during business hours or g
 o to Handbid\, the online auction platform\, to view your favorite pieces 
 and place a bid. Bidding opens at 7 p.m. during the the members preview on
  June 9. Bidding closes at 8 p.m. on Monday\, July 10.  \n\nArtists partic
 ipating in the Art in the Beartooths Silent Auction Exhibition include: Ca
 te Allen\, *Ty Barhaug\, *Maggie Bassett\, Evelyn Bergeron\, Henry Blond\,
  Barbara Butler\, *Sonja Caywood\, Virginia Cross\, *Thomas English\, Dian
 e Greenwood\, *Bonnie Zahn Griffith\, Carol Hagan\, Carol Hartman\, Connie
  Herberg\, Jerry Inman\, Brooke Kapalka\, Cheryl Kesler\, *Brenna Kimbro\,
  *Michael Kosorok\, *Elizabeth LaRowe\, Tess Lehman\, Judy Liner\, Judy Mc
 Murray\, Mike McRann\, *Diana Mysse\, Maggi Neal\, Pat Olding\, Linda Paig
 e\, *Dominique Paulus\, Heidi Pinkerton\, Janice Polzin\, Jean Posusta\, *
 John Potter\, Sydney Rajchel\, Kevin Red Star\, Stephanie Rose\, *Cliff Ro
 ssberg\, *Marcia Selsor\, Lynn Shield\, Trish Stevenson\, Lou Taylor\, Rob
 ert Tompkins\, Dorci Newman-Tremblay\, Echo Ukrainetz\, Ron Ukrainetz\, Ja
 mes K. Vincent\, Richard Wallace\, Randy Wiethorn\, *Shirle Wempner\, Vict
 oria Wetsch\, Kelly Wolfe\, *Tom Wolfe\, Mason Young\, and *Dana Zier. (* 
 denotes artists who are in the Quick Finish and Live Auction event on July
  8\; details below.)\n\nProceeds from the annual Art in the Beartooths eve
 nt supports our mission to provide access to art\, support artistic expres
 sion\, and encourages creative experiences for the enrichment of our commu
 nities. \n\nOn July 8 we will host a Quick Finish and Live Auction with 20
  invited artists. The location this year for the Art in the Beartooths Qui
 ck Finish and Live Auction is the Red Lodge Mountain Golf Course clubhouse
 . Artists will have two hours to create a piece of art. Upon completion al
 l 20 pieces will be sold in a live auction with auctioneer Quinn Donovan. 
 The event starts at 10 a.m. and should be done by 2 p.m. \n\nTickets are $
 65 per person and include entrance to the event\, the chance to mingle wit
 h the artists\, sweet and savory finger food\, complimentary beverages\, a
 nd the excitement of participating in a live auction.  \n\nTHANKS TO OUR A
 rt in the Beartooths SPONSORS!\n\nSILVER LEVEL: Bank of Red Lodge\, Dale a
 nd Jennifer Haarr / D.A. Davidson & Co.\, Jo Ann and Bert Eder\, Paul Henr
 y\, and Barbara Ostrum\n\nBRONZE LEVEL: Baldwin's Landscaping\, Cafe Regis
 \, HUB International\, Cynthia Marble\, and Diane Zook\n\n
X-WR-RELCALID:70929c32ecb882fe3d7ee2ebc9a8d4af
X-WR-TIMEZONE:America/Denver
BEGIN:VTIMEZONE
TZID:America/Denver
BEGIN:STANDARD
TZNAME:MST
DTSTART:20221106T020000
TZOFFSETFROM:-0600
TZOFFSETTO:-0700
RDATE:20231105T020000
RDATE:20241103T020000
END:STANDARD
BEGIN:DAYLIGHT
TZNAME:MDT
DTSTART:20230312T020000
TZOFFSETFROM:-0700
TZOFFSETTO:-0600
RDATE:20240310T020000
END:DAYLIGHT
END:VTIMEZONE
BEGIN:VEVENT
UID:c51ce95d-92b7-4609-b054-ef35210682e5
DTSTAMP:20260420T004723Z
DESCRIPTION:Celebrate 50 Years with the Carbon County Arts Guild & Depot Ga
 llery and the Art in the Beartooths fundraiser. The silent auction art exh
 ibition is open to the public June 10 through July 10\, 2023 with all bidd
 ing online. You can view the artwork in person during business hours or go
  to Handbid\, the online auction platform\, to view your favorite pieces a
 nd place a bid. Bidding opens at 7 p.m. during the the members preview on 
 June 9. Bidding closes at 8 p.m. on Monday\, July 10.  \n\nArtists partici
 pating in the Art in the Beartooths Silent Auction Exhibition include: Cat
 e Allen\, *Ty Barhaug\, *Maggie Bassett\, Evelyn Bergeron\, Henry Blond\, 
 Barbara Butler\, *Sonja Caywood\, Virginia Cross\, *Thomas English\, Diane
  Greenwood\, *Bonnie Zahn Griffith\, Carol Hagan\, Carol Hartman\, Connie 
 Herberg\, Jerry Inman\, Brooke Kapalka\, Cheryl Kesler\, *Brenna Kimbro\, 
 *Michael Kosorok\, *Elizabeth LaRowe\, Tess Lehman\, Judy Liner\, Judy McM
 urray\, Mike McRann\, *Diana Mysse\, Maggi Neal\, Pat Olding\, Linda Paige
 \, *Dominique Paulus\, Heidi Pinkerton\, Janice Polzin\, Jean Posusta\, *J
 ohn Potter\, Sydney Rajchel\, Kevin Red Star\, Stephanie Rose\, *Cliff Ros
 sberg\, *Marcia Selsor\, Lynn Shield\, Trish Stevenson\, Lou Taylor\, Robe
 rt Tompkins\, Dorci Newman-Tremblay\, Echo Ukrainetz\, Ron Ukrainetz\, Jam
 es K. Vincent\, Richard Wallace\, Randy Wiethorn\, *Shirle Wempner\, Victo
 ria Wetsch\, Kelly Wolfe\, *Tom Wolfe\, Mason Young\, and *Dana Zier. (* d
 enotes artists who are in the Quick Finish and Live Auction event on July 
 8\; details below.)\n\nProceeds from the annual Art in the Beartooths even
 t supports our mission to provide access to art\, support artistic express
 ion\, and encourages creative experiences for the enrichment of our commun
 ities. \n\nOn July 8 we will host a Quick Finish and Live Auction with 20 
 invited artists. The location this year for the Art in the Beartooths Quic
 k Finish and Live Auction is the Red Lodge Mountain Golf Course clubhouse.
  Artists will have two hours to create a piece of art. Upon completion all
  20 pieces will be sold in a live auction with auctioneer Quinn Donovan. T
 he event starts at 10 a.m. and should be done by 2 p.m. \n\nTickets are $6
 5 per person and include entrance to the event\, the chance to mingle with
  the artists\, sweet and savory finger food\, complimentary beverages\, an
 d the excitement of participating in a live auction.  \n\nTHANKS TO OUR Ar
 t in the Beartooths SPONSORS!\n\nSILVER LEVEL: Bank of Red Lodge\, Dale an
 d Jennifer Haarr / D.A. Davidson & Co.\, Jo Ann and Bert Eder\, Paul Henry
 \, and Barbara Ostrum\n\nBRONZE LEVEL: Baldwin's Landscaping\, Cafe Regis\
 , HUB International\, Cynthia Marble\, and Diane Zook\n\n
DTSTART;TZID=America/Denver:20230610T000000
DTEND;TZID=America/Denver:20230710T235900
LOCATION:
SUMMARY:Art in the Beartooths Silent Auction Exhibition
END:VEVENT
END:VCALENDAR
