BEGIN:VCALENDAR
VERSION:2.0
PRODID:-//carboncountydepotgallery.org//NONSGML kigkonsult.se iCalcreator 2
 .30.10//
CALSCALE:GREGORIAN
METHOD:PUBLISH
UID:0fd1d200-6915-421b-aa1f-130f126d2437
X-WR-CALDESC:Join us for Art Walk and watch Mason Young and Lynn Shield dem
 onstrate their art making skills. Both of these artists have art on sale i
 n the Art in the Beartooths Silent Auction Art Exhibition. The work is on 
 view June 10-July 10\, 2023 in the Depot Gallery. All bidding on these sil
 ent auction items is done online through Handbid. \n\n3-5 p.m. Mason Young
 \, sculptor\, will demonstrate sculpting in wood\n\n5-7 p.m. artist Lynn S
 hield will demonstrate painting techniques using Brusho watercolor crystal
 s \n\nArt Walk is free and open to the public. Light refreshments will be 
 provided.
X-WR-RELCALID:087be23450ffc5cfca7b7f4be278e0c7
X-WR-TIMEZONE:America/Denver
BEGIN:VTIMEZONE
TZID:America/Denver
BEGIN:STANDARD
TZNAME:MST
DTSTART:20221106T020000
TZOFFSETFROM:-0600
TZOFFSETTO:-0700
RDATE:20231105T020000
RDATE:20241103T020000
END:STANDARD
BEGIN:DAYLIGHT
TZNAME:MDT
DTSTART:20230312T020000
TZOFFSETFROM:-0700
TZOFFSETTO:-0600
RDATE:20240310T020000
END:DAYLIGHT
END:VTIMEZONE
BEGIN:VEVENT
UID:43e5971e-311f-4346-b7bb-48e9b58218f6
DTSTAMP:20260420T004322Z
DESCRIPTION:Join us for Art Walk and watch Mason Young and Lynn Shield demo
 nstrate their art making skills. Both of these artists have art on sale in
  the Art in the Beartooths Silent Auction Art Exhibition. The work is on v
 iew June 10-July 10\, 2023 in the Depot Gallery. All bidding on these sile
 nt auction items is done online through Handbid. \n\n3-5 p.m. Mason Young\
 , sculptor\, will demonstrate sculpting in wood\n\n5-7 p.m. artist Lynn Sh
 ield will demonstrate painting techniques using Brusho watercolor crystals
  \n\nArt Walk is free and open to the public. Light refreshments will be p
 rovided.
DTSTART;TZID=America/Denver:20230610T150000
DTEND;TZID=America/Denver:20230610T200000
LOCATION:
SUMMARY:Art Walk
END:VEVENT
END:VCALENDAR
