BEGIN:VCALENDAR
VERSION:2.0
PRODID:-//carboncountydepotgallery.org//NONSGML kigkonsult.se iCalcreator 2
 .30.10//
CALSCALE:GREGORIAN
METHOD:PUBLISH
UID:315fe985-cec9-4a60-8401-1d620c1e5b61
X-WR-CALDESC:Join local artist and naturalist Dominique Paulus for a weeken
 d of exploration\, learning and creativity. Saturday begins with some prel
 iminary instruction\, then participants will head out on a guided hike to 
 observe and record this year’s beautiful wildflowers and other mountain fl
 ora. Sunday will be a day to gather at the Carbon County Depot Gallery and
  delve into capturing Saturday’s observations in a variety of creative way
 s. Dominique will provide instruction on using watercolors and colored pen
 cils to take your drawings from sketch to finished artwork.\nAll skill lev
 els are welcome.\nWorkshop Schedule: Saturday - 8:30 am - 4pm\, field and 
 class work\; Sunday - 9am - 4pm\, class work\nCost: $80\; $72 for Guild Me
 mbers. An art supply kit is included in the workshop fee.\nSpace is limite
 d.\n
X-WR-RELCALID:e7fb79e109b81a243d136b2c6cbb1c79
X-WR-TIMEZONE:America/Denver
BEGIN:VTIMEZONE
TZID:America/Denver
BEGIN:STANDARD
TZNAME:MST
DTSTART:20221106T020000
TZOFFSETFROM:-0600
TZOFFSETTO:-0700
RDATE:20231105T020000
RDATE:20241103T020000
END:STANDARD
BEGIN:DAYLIGHT
TZNAME:MDT
DTSTART:20230312T020000
TZOFFSETFROM:-0700
TZOFFSETTO:-0600
RDATE:20240310T020000
END:DAYLIGHT
END:VTIMEZONE
BEGIN:VEVENT
UID:576342e9-5abf-4f6f-a907-ba4d79f290ee
DTSTAMP:20260420T004135Z
DESCRIPTION:Join local artist and naturalist Dominique Paulus for a weekend
  of exploration\, learning and creativity. Saturday begins with some preli
 minary instruction\, then participants will head out on a guided hike to o
 bserve and record this year’s beautiful wildflowers and other mountain flo
 ra. Sunday will be a day to gather at the Carbon County Depot Gallery and 
 delve into capturing Saturday’s observations in a variety of creative ways
 . Dominique will provide instruction on using watercolors and colored penc
 ils to take your drawings from sketch to finished artwork.\nAll skill leve
 ls are welcome.\nWorkshop Schedule: Saturday - 8:30 am - 4pm\, field and c
 lass work\; Sunday - 9am - 4pm\, class work\nCost: $80\; $72 for Guild Mem
 bers. An art supply kit is included in the workshop fee.\nSpace is limited
 .\n
DTSTART;TZID=America/Denver:20230624T000000
DTEND;TZID=America/Denver:20230625T235900
LOCATION:
SUMMARY:Nature Journaling Workshop
END:VEVENT
END:VCALENDAR
