BEGIN:VCALENDAR
VERSION:2.0
PRODID:-//carboncountydepotgallery.org//NONSGML kigkonsult.se iCalcreator 2
 .30.10//
CALSCALE:GREGORIAN
METHOD:PUBLISH
UID:67f72d47-f931-4174-88fe-2621e8697452
X-WR-CALDESC:Celebrate 50 years at this year's Art in the Beartoths fundrai
 ser that will feature a Quick Finish and Live Auction with 20 artists from
  the region. During this fun event on Saturday\, July 8\, artists have two
  hours to finish a piece of art. Each piece will be then be auctioned to t
 he high bidder at the event. \n\nArtists include: *Ty Barhaug\, *Maggie Ba
 ssett\, *Sonja Caywood\, Battista Eaton\, Elliott Eaton\, *Thomas English\
 , *Bonnie Zahn Griffith\, Terry Cooke Hall\, *Brenna Kimbro\, *Michael Kos
 orok\, *Elizabeth LaRowe\, *Diana Mysse\, *Dominique Paulus\, *John Potter
 \, *Cliff Rossberg\, *Marcia Selsor\, Lee Walker\, *Shirle Wempner\, *Tom 
 Wolfe\, and *Dana Zier. (* means that artist has a one or more pieces in t
 he Silent Auction too!)\n\nTickets are $65 per person and include entrance
  to the event\, the chance to mingle with the artists\, sweet and savory f
 inger food\, complimentary beverages\, and the excitement of participating
  in a live auction. Art in the Beartooths supports the Carbon County Arts 
 Guild & Depot Gallery exhibitions\, programs and special events. \n\nIf yo
 u miss the Quick Finish and Live Auction July 8 you can still participate 
 in the Art in the Beartooths Silent Auction where all bidding is online. V
 isit the online Silent Auction Exhibition link for details.\n\nSpace is li
 mited to 125. Call (406) 446-1370 for more information or to purchase tick
 ets to this grand fundraiser\, Art in the Beartooths.
X-WR-RELCALID:135c1be5229dc9d9fe39ad247ad11e4a
X-WR-TIMEZONE:America/Denver
BEGIN:VTIMEZONE
TZID:America/Denver
BEGIN:STANDARD
TZNAME:MST
DTSTART:20221106T020000
TZOFFSETFROM:-0600
TZOFFSETTO:-0700
RDATE:20231105T020000
RDATE:20241103T020000
END:STANDARD
BEGIN:DAYLIGHT
TZNAME:MDT
DTSTART:20230312T020000
TZOFFSETFROM:-0700
TZOFFSETTO:-0600
RDATE:20240310T020000
END:DAYLIGHT
END:VTIMEZONE
BEGIN:VEVENT
UID:64ba6008-42ae-4b9d-a19a-284c4bb5a31d
DTSTAMP:20260419T231041Z
DESCRIPTION:Celebrate 50 years at this year's Art in the Beartoths fundrais
 er that will feature a Quick Finish and Live Auction with 20 artists from 
 the region. During this fun event on Saturday\, July 8\, artists have two 
 hours to finish a piece of art. Each piece will be then be auctioned to th
 e high bidder at the event. \n\nArtists include: *Ty Barhaug\, *Maggie Bas
 sett\, *Sonja Caywood\, Battista Eaton\, Elliott Eaton\, *Thomas English\,
  *Bonnie Zahn Griffith\, Terry Cooke Hall\, *Brenna Kimbro\, *Michael Koso
 rok\, *Elizabeth LaRowe\, *Diana Mysse\, *Dominique Paulus\, *John Potter\
 , *Cliff Rossberg\, *Marcia Selsor\, Lee Walker\, *Shirle Wempner\, *Tom W
 olfe\, and *Dana Zier. (* means that artist has a one or more pieces in th
 e Silent Auction too!)\n\nTickets are $65 per person and include entrance 
 to the event\, the chance to mingle with the artists\, sweet and savory fi
 nger food\, complimentary beverages\, and the excitement of participating 
 in a live auction. Art in the Beartooths supports the Carbon County Arts G
 uild & Depot Gallery exhibitions\, programs and special events. \n\nIf you
  miss the Quick Finish and Live Auction July 8 you can still participate i
 n the Art in the Beartooths Silent Auction where all bidding is online. Vi
 sit the online Silent Auction Exhibition link for details.\n\nSpace is lim
 ited to 125. Call (406) 446-1370 for more information or to purchase ticke
 ts to this grand fundraiser\, Art in the Beartooths.
DTSTART;TZID=America/Denver:20230708T100000
DTEND;TZID=America/Denver:20230708T140000
LOCATION:
SUMMARY:Quick Finish & Live Auction / Art in the Beartooths
END:VEVENT
END:VCALENDAR
