BEGIN:VCALENDAR
VERSION:2.0
PRODID:-//carboncountydepotgallery.org//NONSGML kigkonsult.se iCalcreator 2
 .30.10//
CALSCALE:GREGORIAN
METHOD:PUBLISH
UID:5bd68213-cca5-4b0e-9234-e03cc814fcb2
X-WR-CALDESC:Featuring new work by Janice Marie Polzin.\nView the art and m
 eet the artist at the opening reception\nSaturday\, August 12 from 5-7 p.m
 . \nEnjoy light refreshments\nFree and open to the public\n\nJanice Marie 
 Polzin is a Montana based artist and art educator. Originally from Detroit
 \, Michigan\, she settled into the Red Lodge area in 2015. Visual art and 
 creativity is the foundation of how she relates with the world. Ever growi
 ng and constantly curious she is a formally trained artist with degrees in
  Fine Art and Art Education. The paintings created by Janice are always ev
 olving but the themes of landscape\, abstraction and human experience are 
 interwoven in all of her work. \n\nThrough the Carbon County Arts Guild Ar
 t Education Outreach Program Janice brings joy to Montana youth as the art
  educator for schools in Fishtail\, Luther\, and Roberts. As a community m
 ember\, she offers her artistic skills to several foundations and organiza
 tions. As an active artist\, her work can be seen in gallery exhibitions\,
  private commissions\, and large-scale public murals. Janice’s murals can 
 be found in Red Lodge\, Roberts\, Billings\, Bozeman and Polebridge Montan
 a. \n\nThis exhibition will be on view August 3-27\, 2023. \nGallery Hours
  are 10 a.m.-5 p.m. Thursday\, Friday and Saturday and 12-4 p.m. Sunday an
 d Monday.
X-WR-RELCALID:1d5d95330267bfb795d450998f6bf5f8
X-WR-TIMEZONE:America/Denver
BEGIN:VTIMEZONE
TZID:America/Denver
BEGIN:STANDARD
TZNAME:MST
DTSTART:20221106T020000
TZOFFSETFROM:-0600
TZOFFSETTO:-0700
RDATE:20231105T020000
RDATE:20241103T020000
END:STANDARD
BEGIN:DAYLIGHT
TZNAME:MDT
DTSTART:20230312T020000
TZOFFSETFROM:-0700
TZOFFSETTO:-0600
RDATE:20240310T020000
END:DAYLIGHT
END:VTIMEZONE
BEGIN:VEVENT
UID:8ec790af-1fe6-4b36-92ab-561a164d3499
DTSTAMP:20260419T232144Z
DESCRIPTION:Featuring new work by Janice Marie Polzin.\nView the art and me
 et the artist at the opening reception\nSaturday\, August 12 from 5-7 p.m.
  \nEnjoy light refreshments\nFree and open to the public\n\nJanice Marie P
 olzin is a Montana based artist and art educator. Originally from Detroit\
 , Michigan\, she settled into the Red Lodge area in 2015. Visual art and c
 reativity is the foundation of how she relates with the world. Ever growin
 g and constantly curious she is a formally trained artist with degrees in 
 Fine Art and Art Education. The paintings created by Janice are always evo
 lving but the themes of landscape\, abstraction and human experience are i
 nterwoven in all of her work. \n\nThrough the Carbon County Arts Guild Art
  Education Outreach Program Janice brings joy to Montana youth as the art 
 educator for schools in Fishtail\, Luther\, and Roberts. As a community me
 mber\, she offers her artistic skills to several foundations and organizat
 ions. As an active artist\, her work can be seen in gallery exhibitions\, 
 private commissions\, and large-scale public murals. Janice’s murals can b
 e found in Red Lodge\, Roberts\, Billings\, Bozeman and Polebridge Montana
 . \n\nThis exhibition will be on view August 3-27\, 2023. \nGallery Hours 
 are 10 a.m.-5 p.m. Thursday\, Friday and Saturday and 12-4 p.m. Sunday and
  Monday.
DTSTART;TZID=America/Denver:20230803T000000
DTEND;TZID=America/Denver:20230827T235900
LOCATION:
SUMMARY:Places and Things: Paintings by Janice Polzin
END:VEVENT
END:VCALENDAR
