BEGIN:VCALENDAR
VERSION:2.0
PRODID:-//carboncountydepotgallery.org//NONSGML kigkonsult.se iCalcreator 2
 .30.10//
CALSCALE:GREGORIAN
METHOD:PUBLISH
UID:34885c22-b1ef-42e8-bdab-8d054b7f32f7
X-WR-CALDESC:Learn to draw portraits with this course for young artists.  S
 tarting with basic proportions and techniques to add details\, students wi
 ll build and improve their portrait drawing skills. For ages 10-16 - all l
 evels welcome. $35 (all supplies provided). Scholarships available.
X-WR-RELCALID:683381a10f65d014a16e5bf84e082382
X-WR-TIMEZONE:America/Denver
BEGIN:VTIMEZONE
TZID:America/Denver
BEGIN:STANDARD
TZNAME:MST
DTSTART:20221106T020000
TZOFFSETFROM:-0600
TZOFFSETTO:-0700
RDATE:20231105T020000
RDATE:20241103T020000
END:STANDARD
BEGIN:DAYLIGHT
TZNAME:MDT
DTSTART:20230312T020000
TZOFFSETFROM:-0700
TZOFFSETTO:-0600
RDATE:20240310T020000
END:DAYLIGHT
END:VTIMEZONE
BEGIN:VEVENT
UID:579f98c5-783f-47ed-8f65-98f4beac406b
DTSTAMP:20260419T213424Z
DESCRIPTION:Learn to draw portraits with this course for young artists.  St
 arting with basic proportions and techniques to add details\, students wil
 l build and improve their portrait drawing skills. For ages 10-16 - all le
 vels welcome. $35 (all supplies provided). Scholarships available.
DTSTART;TZID=America/Denver:20230810T090000
DTEND;TZID=America/Denver:20230810T113000
LOCATION:
SUMMARY:Portrait Drawing for Students
END:VEVENT
END:VCALENDAR
