BEGIN:VCALENDAR
VERSION:2.0
PRODID:-//carboncountydepotgallery.org//NONSGML kigkonsult.se iCalcreator 2
 .30.10//
CALSCALE:GREGORIAN
METHOD:PUBLISH
UID:edbc82ff-5a62-4204-a8a0-8ef6e52ee94d
X-WR-CALDESC:Free and open to the public.
X-WR-RELCALID:032082e648397f4b303a196c41a7264e
X-WR-TIMEZONE:America/Denver
BEGIN:VTIMEZONE
TZID:America/Denver
BEGIN:STANDARD
TZNAME:MST
DTSTART:20221106T020000
TZOFFSETFROM:-0600
TZOFFSETTO:-0700
RDATE:20231105T020000
RDATE:20241103T020000
END:STANDARD
BEGIN:DAYLIGHT
TZNAME:MDT
DTSTART:20230312T020000
TZOFFSETFROM:-0700
TZOFFSETTO:-0600
RDATE:20240310T020000
END:DAYLIGHT
END:VTIMEZONE
BEGIN:VEVENT
UID:c89c1fbc-6b95-4f11-849f-bfc7c283b226
DTSTAMP:20260419T213420Z
DESCRIPTION:Free and open to the public.
DTSTART;TZID=America/Denver:20230812T150000
DTEND;TZID=America/Denver:20230812T200000
LOCATION:
SUMMARY:Art Walk
END:VEVENT
END:VCALENDAR
