BEGIN:VCALENDAR
VERSION:2.0
PRODID:-//carboncountydepotgallery.org//NONSGML kigkonsult.se iCalcreator 2
 .30.10//
CALSCALE:GREGORIAN
METHOD:PUBLISH
UID:2c6b774b-465d-4de4-af77-a1cc83054796
X-WR-CALDESC:Meet the artist and view the art by Janice Marie Polzin\nLight
  Refreshments.  Free and open to the public.
X-WR-RELCALID:eca2a6f8e3311ba817412e9156c65751
X-WR-TIMEZONE:America/Denver
BEGIN:VTIMEZONE
TZID:America/Denver
BEGIN:STANDARD
TZNAME:MST
DTSTART:20221106T020000
TZOFFSETFROM:-0600
TZOFFSETTO:-0700
RDATE:20231105T020000
RDATE:20241103T020000
END:STANDARD
BEGIN:DAYLIGHT
TZNAME:MDT
DTSTART:20230312T020000
TZOFFSETFROM:-0700
TZOFFSETTO:-0600
RDATE:20240310T020000
END:DAYLIGHT
END:VTIMEZONE
BEGIN:VEVENT
UID:15707dac-1442-457b-bbf1-5fdbbc9a2048
DTSTAMP:20260419T213536Z
DESCRIPTION:Meet the artist and view the art by Janice Marie Polzin\nLight 
 Refreshments.  Free and open to the public.
DTSTART;TZID=America/Denver:20230812T170000
DTEND;TZID=America/Denver:20230812T190000
LOCATION:
SUMMARY:OPENING RECEPTION- Janice Polzin
END:VEVENT
END:VCALENDAR
