BEGIN:VCALENDAR
VERSION:2.0
PRODID:-//carboncountydepotgallery.org//NONSGML kigkonsult.se iCalcreator 2
 .30.10//
CALSCALE:GREGORIAN
METHOD:PUBLISH
UID:0b9b85e4-366f-4c54-9196-1f361a128b2a
X-WR-CALDESC:From cartoon bubbles to melting clocks... the modern art movem
 ents changed the way we look at art. Each day this class will explore a di
 fferent art movement and then try out what we've learned with a unique pro
 ject. We will be discovering Pop Art\, Impressionism\, Surrealism and Cubi
 sm. For ages 8 and up. $125 for 4 days\, supplies included. Class meets Mo
 n-Thurs\, 9am-11:30 pm. Scholarships available.
X-WR-RELCALID:c242712f7c9c56b860520a224986548a
X-WR-TIMEZONE:America/Denver
BEGIN:VTIMEZONE
TZID:America/Denver
BEGIN:STANDARD
TZNAME:MST
DTSTART:20221106T020000
TZOFFSETFROM:-0600
TZOFFSETTO:-0700
RDATE:20231105T020000
RDATE:20241103T020000
END:STANDARD
BEGIN:DAYLIGHT
TZNAME:MDT
DTSTART:20230312T020000
TZOFFSETFROM:-0700
TZOFFSETTO:-0600
RDATE:20240310T020000
END:DAYLIGHT
END:VTIMEZONE
BEGIN:VEVENT
UID:ecf93444-170a-490a-9e34-540624ef4025
DTSTAMP:20260419T213712Z
DESCRIPTION:From cartoon bubbles to melting clocks... the modern art moveme
 nts changed the way we look at art. Each day this class will explore a dif
 ferent art movement and then try out what we've learned with a unique proj
 ect. We will be discovering Pop Art\, Impressionism\, Surrealism and Cubis
 m. For ages 8 and up. $125 for 4 days\, supplies included. Class meets Mon
 -Thurs\, 9am-11:30 pm. Scholarships available.
DTSTART;TZID=America/Denver:20230814T090000
DTEND;TZID=America/Denver:20230817T113000
LOCATION:
SUMMARY:You Call That Art?
END:VEVENT
END:VCALENDAR
