BEGIN:VCALENDAR
VERSION:2.0
PRODID:-//carboncountydepotgallery.org//NONSGML kigkonsult.se iCalcreator 2
 .30.10//
CALSCALE:GREGORIAN
METHOD:PUBLISH
UID:9627dfc0-4db1-477e-bc1a-436da318b02d
X-WR-CALDESC:Come experience the ancient art of indigo dyeing! Join textile
  artist Marie Shirley-Jones for this fun workshop and create your own beau
 tiful indigo design on one yard of cotton fabric. Supplies included\, all 
 levels welcome! Class size limited. $63 for Guild Members\, $70 for non-me
 mbers.
X-WR-RELCALID:f4b8763a52277e5c4e4fb7bb9b8b970d
X-WR-TIMEZONE:America/Denver
BEGIN:VTIMEZONE
TZID:America/Denver
BEGIN:STANDARD
TZNAME:MST
DTSTART:20221106T020000
TZOFFSETFROM:-0600
TZOFFSETTO:-0700
RDATE:20231105T020000
RDATE:20241103T020000
END:STANDARD
BEGIN:DAYLIGHT
TZNAME:MDT
DTSTART:20230312T020000
TZOFFSETFROM:-0700
TZOFFSETTO:-0600
RDATE:20240310T020000
END:DAYLIGHT
END:VTIMEZONE
BEGIN:VEVENT
UID:ba48b3df-c3fa-4415-904c-752957ba7248
DTSTAMP:20260419T230825Z
DESCRIPTION:Come experience the ancient art of indigo dyeing! Join textile 
 artist Marie Shirley-Jones for this fun workshop and create your own beaut
 iful indigo design on one yard of cotton fabric. Supplies included\, all l
 evels welcome! Class size limited. $63 for Guild Members\, $70 for non-mem
 bers.
DTSTART;TZID=America/Denver:20230820T123000
DTEND;TZID=America/Denver:20230820T170000
LOCATION:
SUMMARY:Indigo Dyeing Workshop
END:VEVENT
END:VCALENDAR
