BEGIN:VCALENDAR
VERSION:2.0
PRODID:-//carboncountydepotgallery.org//NONSGML kigkonsult.se iCalcreator 2
 .30.10//
CALSCALE:GREGORIAN
METHOD:PUBLISH
UID:e048450f-b2d0-4904-abb3-25fa1e01f5aa
X-WR-CALDESC:Henry Blond says about the exhibition that\, 'Presence' is a s
 eries of oil paintings that explore human existence in the modern world. S
 trong and unapologetic\, the female face that dominates each canvas bares 
 her true essence and commands the viewers full attention in return. With e
 ach brushstroke portraying human experience\, disappearing edges reflect f
 ading memories and absent areas echo that which has been buried. In essenc
 e the artwork captures the complex tapestry of life. As we stand witness t
 o those instances that shape our lives\, these works remind us that\, in a
  newly distracted world\, being fully present is the ultimate state of exi
 stence.'\n\nA former resident of Red Lodge\, artist Henry Blond is set to 
 return with a new series of expressive paintings for his solo show 'Presen
 ce.' His relocation to New Mexico two years ago aligned perfectly with his
  desire to move into a more focused period of figurative expression in his
  work. Henry’s creative background in music\, design\, and visual arts is 
 unified in his latest collection through the balancing of rhythm\, harmony
 \, color and the powerful use of space.\n\nWith Montana being such a forma
 tive place on his journey to becoming a full-time artist\, Henry is excite
 d to come back and share the results of his recent artistic exploration in
  his first solo show.\n\nOPENING RECEPTION: Saturday\, September 2\, from 
 5-7 p.m. with a gallery talk by Henry Blond at 6 p.m.\nThis event and exhi
 bition is free and open to the public.
X-WR-RELCALID:1e05306fbfadc3da8c1b9df4ff725f1c
X-WR-TIMEZONE:America/Denver
BEGIN:VTIMEZONE
TZID:America/Denver
BEGIN:STANDARD
TZNAME:MST
DTSTART:20221106T020000
TZOFFSETFROM:-0600
TZOFFSETTO:-0700
RDATE:20231105T020000
RDATE:20241103T020000
END:STANDARD
BEGIN:DAYLIGHT
TZNAME:MDT
DTSTART:20230312T020000
TZOFFSETFROM:-0700
TZOFFSETTO:-0600
RDATE:20240310T020000
END:DAYLIGHT
END:VTIMEZONE
BEGIN:VEVENT
UID:dd3a6cf1-1fd1-4257-b40e-ebd8bf965d4b
DTSTAMP:20260419T213928Z
DESCRIPTION:Henry Blond says about the exhibition that\, 'Presence' is a se
 ries of oil paintings that explore human existence in the modern world. St
 rong and unapologetic\, the female face that dominates each canvas bares h
 er true essence and commands the viewers full attention in return. With ea
 ch brushstroke portraying human experience\, disappearing edges reflect fa
 ding memories and absent areas echo that which has been buried. In essence
  the artwork captures the complex tapestry of life. As we stand witness to
  those instances that shape our lives\, these works remind us that\, in a 
 newly distracted world\, being fully present is the ultimate state of exis
 tence.'\n\nA former resident of Red Lodge\, artist Henry Blond is set to r
 eturn with a new series of expressive paintings for his solo show 'Presenc
 e.' His relocation to New Mexico two years ago aligned perfectly with his 
 desire to move into a more focused period of figurative expression in his 
 work. Henry’s creative background in music\, design\, and visual arts is u
 nified in his latest collection through the balancing of rhythm\, harmony\
 , color and the powerful use of space.\n\nWith Montana being such a format
 ive place on his journey to becoming a full-time artist\, Henry is excited
  to come back and share the results of his recent artistic exploration in 
 his first solo show.\n\nOPENING RECEPTION: Saturday\, September 2\, from 5
 -7 p.m. with a gallery talk by Henry Blond at 6 p.m.\nThis event and exhib
 ition is free and open to the public.
DTSTART;TZID=America/Denver:20230901T000000
DTEND;TZID=America/Denver:20230930T235900
LOCATION:
SUMMARY:Presence: Paintings by Henry Blond
END:VEVENT
END:VCALENDAR
