BEGIN:VCALENDAR
VERSION:2.0
PRODID:-//carboncountydepotgallery.org//NONSGML kigkonsult.se iCalcreator 2
 .30.10//
CALSCALE:GREGORIAN
METHOD:PUBLISH
UID:30a81583-a817-4b67-9e43-da3283a38adc
X-WR-CALDESC:View exhibition\, Presence: Paintings by Henry Blond\, in the 
 main gallery and view art work by Rimrock Artists in the north gallery. \n
 Gallery talk by Henry Blond is at 6 p.m. The reception is free and open to
  the public. Light refreshments will be served.  \n
X-WR-RELCALID:afd265f3fc4498da8f0780304426975d
X-WR-TIMEZONE:America/Denver
BEGIN:VTIMEZONE
TZID:America/Denver
BEGIN:STANDARD
TZNAME:MST
DTSTART:20221106T020000
TZOFFSETFROM:-0600
TZOFFSETTO:-0700
RDATE:20231105T020000
RDATE:20241103T020000
END:STANDARD
BEGIN:DAYLIGHT
TZNAME:MDT
DTSTART:20230312T020000
TZOFFSETFROM:-0700
TZOFFSETTO:-0600
RDATE:20240310T020000
END:DAYLIGHT
END:VTIMEZONE
BEGIN:VEVENT
UID:559c8f04-a179-432f-914e-17faac53cb7d
DTSTAMP:20260419T200050Z
DESCRIPTION:View exhibition\, Presence: Paintings by Henry Blond\, in the m
 ain gallery and view art work by Rimrock Artists in the north gallery. \nG
 allery talk by Henry Blond is at 6 p.m. The reception is free and open to 
 the public. Light refreshments will be served.  \n
DTSTART;TZID=America/Denver:20230902T170000
DTEND;TZID=America/Denver:20230902T190000
LOCATION:
SUMMARY:Opening Reception: Henry Blond & Rimrock Artists
END:VEVENT
END:VCALENDAR
