BEGIN:VCALENDAR
VERSION:2.0
PRODID:-//carboncountydepotgallery.org//NONSGML kigkonsult.se iCalcreator 2
 .30.10//
CALSCALE:GREGORIAN
METHOD:PUBLISH
UID:3a224afa-58d4-49cd-b00b-e462c26b857d
X-WR-CALDESC:Visit Lions Park in Red Lodge for the 44th Annual Labor Day Ar
 ts Fair in Red Lodge Montana. This one-day art fair organized by the Carbo
 n County Arts Guild & Depot Gallery\, recently voted as the 2023 Best of M
 ontana Art Show in Distinctly Montana\, will take place from 9 a.m. to 4 p
 .m.\, Monday\, September 4\, 2023. It is free and open to the public.\n\nD
 ozens of artists will converge on Lions Park\, which is adjacent to the hi
 storic train depot\, to offer a creative assortment of art and fine crafts
 . Artisans will bring their very best items to include fine art\, sculptur
 e\, glass\, photography\, jewelry\, pottery\, wood carving\, paintings\, g
 reeting cards\, and so much more. Plan to meet the artists and get to know
  more about their work. Also take time to shop for that special occasion o
 r indulge in something just for yourself.  This year we have many of the f
 avorite vendors as well as several new vendors. So\, come to the Red Lodge
  Labor Day Arts Fair to check it out.\n  \nIn addition to the arts and fin
 e crafts\, there will be painting demos. \nSchedule: 9-10:30 a.m. Rimrock 
 Artists painting demos\n                  10:30 a.m. - Zumba with Sam Thom
 as\n                  12-2 p.m. Live radio with FM 99.3\n                 
  2:30-4 p.m. Rimrock Artists painting demos \n\nOf course\, the Labor Day 
 Arts Fair wouldn’t be complete without food.  This year we have three food
  trucks: Tup Tim Thai\, OPA Grill\, and Let’s Get Fresh. In addition\, you
  can nosh on kettle corn\, chocolate\, caramel apples\, and ice cream whil
 e enjoying the event. Or visit any number of wonderful eateries in Red Lod
 ge.     \n\nWe encourage you to bring your friends and family to enjoy the
  last\, best summer event in Red Lodge at the Labor Day Arts Fair. Admissi
 on is free. Rain or shine. Lions Park is located next to the historic Carb
 on County Arts Guild & Depot Gallery in Red Lodge\; one block west of Broa
 dway on 8th Street– just watch for the crowd! \n\nAlso stop in at the Carb
 on County Arts Guild located next to Lions Park to view amazing art in the
  retail store and see the September featured exhibitions: Presence: Painti
 ngs by Henry Blond in the main gallery and Art by Rimrock Artists in the n
 orth gallery. \n\nThis event is sponsored by the Carbon County Arts Guild 
 & Depot Gallery which is supported in part by grants from the Montana Arts
  Council\, the Coal Tax Trust Fund for Cultural and Aesthetic Projects\, a
 nd the National Endowment for the Arts. Additional support for this event 
 is courtesy of Republic Services.\n\nThe Carbon County Arts Guild & Depot 
 Gallery provides access to art\, supports artistic expression\, and encour
 ages creative experiences for the enrichment of our communities.\n\n\n
X-WR-RELCALID:5eb4eb3ea2e25af043f9b50ad653787a
X-WR-TIMEZONE:America/Denver
BEGIN:VTIMEZONE
TZID:America/Denver
BEGIN:STANDARD
TZNAME:MST
DTSTART:20221106T020000
TZOFFSETFROM:-0600
TZOFFSETTO:-0700
RDATE:20231105T020000
RDATE:20241103T020000
END:STANDARD
BEGIN:DAYLIGHT
TZNAME:MDT
DTSTART:20230312T020000
TZOFFSETFROM:-0700
TZOFFSETTO:-0600
RDATE:20240310T020000
END:DAYLIGHT
END:VTIMEZONE
BEGIN:VEVENT
UID:d1eef2fb-bebc-4ddb-8b17-a40b5a63c688
DTSTAMP:20260419T195752Z
DESCRIPTION:Visit Lions Park in Red Lodge for the 44th Annual Labor Day Art
 s Fair in Red Lodge Montana. This one-day art fair organized by the Carbon
  County Arts Guild & Depot Gallery\, recently voted as the 2023 Best of Mo
 ntana Art Show in Distinctly Montana\, will take place from 9 a.m. to 4 p.
 m.\, Monday\, September 4\, 2023. It is free and open to the public.\n\nDo
 zens of artists will converge on Lions Park\, which is adjacent to the his
 toric train depot\, to offer a creative assortment of art and fine crafts.
  Artisans will bring their very best items to include fine art\, sculpture
 \, glass\, photography\, jewelry\, pottery\, wood carving\, paintings\, gr
 eeting cards\, and so much more. Plan to meet the artists and get to know 
 more about their work. Also take time to shop for that special occasion or
  indulge in something just for yourself.  This year we have many of the fa
 vorite vendors as well as several new vendors. So\, come to the Red Lodge 
 Labor Day Arts Fair to check it out.\n  \nIn addition to the arts and fine
  crafts\, there will be painting demos. \nSchedule: 9-10:30 a.m. Rimrock A
 rtists painting demos\n                  10:30 a.m. - Zumba with Sam Thoma
 s\n                  12-2 p.m. Live radio with FM 99.3\n                  
 2:30-4 p.m. Rimrock Artists painting demos \n\nOf course\, the Labor Day A
 rts Fair wouldn’t be complete without food.  This year we have three food 
 trucks: Tup Tim Thai\, OPA Grill\, and Let’s Get Fresh. In addition\, you 
 can nosh on kettle corn\, chocolate\, caramel apples\, and ice cream while
  enjoying the event. Or visit any number of wonderful eateries in Red Lodg
 e.     \n\nWe encourage you to bring your friends and family to enjoy the 
 last\, best summer event in Red Lodge at the Labor Day Arts Fair. Admissio
 n is free. Rain or shine. Lions Park is located next to the historic Carbo
 n County Arts Guild & Depot Gallery in Red Lodge\; one block west of Broad
 way on 8th Street– just watch for the crowd! \n\nAlso stop in at the Carbo
 n County Arts Guild located next to Lions Park to view amazing art in the 
 retail store and see the September featured exhibitions: Presence: Paintin
 gs by Henry Blond in the main gallery and Art by Rimrock Artists in the no
 rth gallery. \n\nThis event is sponsored by the Carbon County Arts Guild &
  Depot Gallery which is supported in part by grants from the Montana Arts 
 Council\, the Coal Tax Trust Fund for Cultural and Aesthetic Projects\, an
 d the National Endowment for the Arts. Additional support for this event i
 s courtesy of Republic Services.\n\nThe Carbon County Arts Guild & Depot G
 allery provides access to art\, supports artistic expression\, and encoura
 ges creative experiences for the enrichment of our communities.\n\n\n
DTSTART;TZID=America/Denver:20230904T090000
DTEND;TZID=America/Denver:20230904T160000
LOCATION:
SUMMARY:44th Annual Labor Day Arts Fair
END:VEVENT
END:VCALENDAR
