BEGIN:VCALENDAR
VERSION:2.0
PRODID:-//carboncountydepotgallery.org//NONSGML kigkonsult.se iCalcreator 2
 .30.10//
CALSCALE:GREGORIAN
METHOD:PUBLISH
UID:1bbc5ec4-04e4-4e9b-8000-6bff128a686a
X-WR-CALDESC:Bring your favorite drawing tools and a sketch pad and we’ll p
 rovide a model to draw from. This is not a class so you can draw at your o
 wn pace while being in the company of other creative people. Cost is FREE 
 for Guild members and $5 for non-Guild members. Students under 18 are welc
 ome to attend for FREE. Registration is not required.\n\nThis program is o
 rganized by the Carbon County Arts Guild & Depot Gallery which is supporte
 d in part by grants from the Montana Arts Council\, the Coal Tax Trust Fun
 d for Cultural and Aesthetic Projects\, and the National Endowment for the
  Arts.\n\nThe Carbon County Arts Guild & Depot Gallery provides access to 
 art\, supports artistic expression\, and encourages creative experiences f
 or the enrichment of our communities\n
X-WR-RELCALID:c7e32a70d090e06bb1efce1a9a74526e
X-WR-TIMEZONE:America/Denver
BEGIN:VTIMEZONE
TZID:America/Denver
BEGIN:STANDARD
TZNAME:MST
DTSTART:20221106T020000
TZOFFSETFROM:-0600
TZOFFSETTO:-0700
RDATE:20231105T020000
RDATE:20241103T020000
END:STANDARD
BEGIN:DAYLIGHT
TZNAME:MDT
DTSTART:20230312T020000
TZOFFSETFROM:-0700
TZOFFSETTO:-0600
RDATE:20240310T020000
RDATE:20250309T020000
END:DAYLIGHT
END:VTIMEZONE
BEGIN:VEVENT
UID:5bdff8d8-40f3-4b2d-a613-9ddfc0f17a96
DTSTAMP:20260419T195440Z
DESCRIPTION:Bring your favorite drawing tools and a sketch pad and we’ll pr
 ovide a model to draw from. This is not a class so you can draw at your ow
 n pace while being in the company of other creative people. Cost is FREE f
 or Guild members and $5 for non-Guild members. Students under 18 are welco
 me to attend for FREE. Registration is not required.\n\nThis program is or
 ganized by the Carbon County Arts Guild & Depot Gallery which is supported
  in part by grants from the Montana Arts Council\, the Coal Tax Trust Fund
  for Cultural and Aesthetic Projects\, and the National Endowment for the 
 Arts.\n\nThe Carbon County Arts Guild & Depot Gallery provides access to a
 rt\, supports artistic expression\, and encourages creative experiences fo
 r the enrichment of our communities\n
DTSTART;TZID=America/Denver:20230917T140000
DTEND;TZID=America/Denver:20230917T160000
LOCATION:
SUMMARY:OPEN STUDIO: Figure Drawing
END:VEVENT
END:VCALENDAR
