BEGIN:VCALENDAR
VERSION:2.0
PRODID:-//carboncountydepotgallery.org//NONSGML kigkonsult.se iCalcreator 2
 .30.10//
CALSCALE:GREGORIAN
METHOD:PUBLISH
UID:0035b368-716f-46a9-9b3f-03678f43021f
X-WR-CALDESC:The Rimrock Artists have participated in a critique group sinc
 e 2016\, their paintings include a variety of media including alcohol ink\
 , pastel\, urban sketches\, watercolor\, oil and acrylic paint.\n\nThis ex
 hibition in the north gallery will feature work from  Ev Bergeron\, Mike C
 lark\, Barbara Garrett\, John Kennedy\, Nyd Kraushaar\, Robert Tompkins\, 
 and James Vincent. In addition\, a couple pieces by former founders of the
  group\, Jim LeBar and Dick Ellis\, will be part of the show.\n\nReception
  for the exhibition is Saturday\, September 2\, from 5-7 p.m. It is free a
 nd open to the public.
X-WR-RELCALID:e801c81817f9947ec5936fe9a1016450
X-WR-TIMEZONE:America/Denver
BEGIN:VTIMEZONE
TZID:America/Denver
BEGIN:STANDARD
TZNAME:MST
DTSTART:20221106T020000
TZOFFSETFROM:-0600
TZOFFSETTO:-0700
RDATE:20231105T020000
RDATE:20241103T020000
END:STANDARD
BEGIN:DAYLIGHT
TZNAME:MDT
DTSTART:20230312T020000
TZOFFSETFROM:-0700
TZOFFSETTO:-0600
RDATE:20240310T020000
END:DAYLIGHT
END:VTIMEZONE
BEGIN:VEVENT
UID:cc5eb35f-20e2-4191-9cd8-ba9e6aafa85d
DTSTAMP:20260419T195805Z
DESCRIPTION:The Rimrock Artists have participated in a critique group since
  2016\, their paintings include a variety of media including alcohol ink\,
  pastel\, urban sketches\, watercolor\, oil and acrylic paint.\n\nThis exh
 ibition in the north gallery will feature work from  Ev Bergeron\, Mike Cl
 ark\, Barbara Garrett\, John Kennedy\, Nyd Kraushaar\, Robert Tompkins\, a
 nd James Vincent. In addition\, a couple pieces by former founders of the 
 group\, Jim LeBar and Dick Ellis\, will be part of the show.\n\nReception 
 for the exhibition is Saturday\, September 2\, from 5-7 p.m. It is free an
 d open to the public.
DTSTART;TZID=America/Denver:20230901T000000
DTEND;TZID=America/Denver:20230930T235900
LOCATION:
SUMMARY:Art by Rimrock Artists
END:VEVENT
END:VCALENDAR
