BEGIN:VCALENDAR
VERSION:2.0
PRODID:-//carboncountydepotgallery.org//NONSGML kigkonsult.se iCalcreator 2
 .30.10//
CALSCALE:GREGORIAN
METHOD:PUBLISH
UID:29b97f24-37e6-4dd8-9258-301cf853b9f5
X-WR-CALDESC:Join us for the opening reception for the POP CARS exhibition 
 as well as the exhibition of work by the Beartooth Plein Air Society and S
 tillwater Society.
X-WR-RELCALID:527499be20d86b63b49be3623a040295
X-WR-TIMEZONE:America/Denver
BEGIN:VTIMEZONE
TZID:America/Denver
BEGIN:STANDARD
TZNAME:MST
DTSTART:20221106T020000
TZOFFSETFROM:-0600
TZOFFSETTO:-0700
RDATE:20231105T020000
RDATE:20241103T020000
END:STANDARD
BEGIN:DAYLIGHT
TZNAME:MDT
DTSTART:20230312T020000
TZOFFSETFROM:-0700
TZOFFSETTO:-0600
RDATE:20240310T020000
RDATE:20250309T020000
END:DAYLIGHT
END:VTIMEZONE
BEGIN:VEVENT
UID:49f64b98-e7d5-465b-ab27-fc261b9acfc9
DTSTAMP:20260419T181828Z
DESCRIPTION:Join us for the opening reception for the POP CARS exhibition a
 s well as the exhibition of work by the Beartooth Plein Air Society and St
 illwater Society.
DTSTART;TZID=America/Denver:20231014T150000
DTEND;TZID=America/Denver:20231014T170000
LOCATION:
SUMMARY:October Exhibition Opening Reception
END:VEVENT
END:VCALENDAR
