BEGIN:VCALENDAR
VERSION:2.0
PRODID:-//carboncountydepotgallery.org//NONSGML kigkonsult.se iCalcreator 2
 .30.10//
CALSCALE:GREGORIAN
METHOD:PUBLISH
UID:84be50c9-5229-46b2-9e11-f1bcec8ca6dc
X-WR-CALDESC:Join Red Lodge graduate\, Brady Canfield\, author and illustra
 tor of the comic series Wombat Rue to discover the benefits of using comic
 s in teaching and break the decades old myth that comics are strictly juve
 nile.\n\nFREE presentation for educators - please RSVP to programs@carbonc
 ountydepotgallery.org
X-WR-RELCALID:3b12a60ab7f1e173f2e433babf1992b3
X-WR-TIMEZONE:America/Denver
BEGIN:VTIMEZONE
TZID:America/Denver
BEGIN:STANDARD
TZNAME:MST
DTSTART:20221106T020000
TZOFFSETFROM:-0600
TZOFFSETTO:-0700
RDATE:20231105T020000
RDATE:20241103T020000
END:STANDARD
BEGIN:DAYLIGHT
TZNAME:MDT
DTSTART:20230312T020000
TZOFFSETFROM:-0700
TZOFFSETTO:-0600
RDATE:20240310T020000
RDATE:20250309T020000
END:DAYLIGHT
END:VTIMEZONE
BEGIN:VEVENT
UID:d4461b8c-da9c-4073-8d70-348fbd0c5c6c
DTSTAMP:20260419T181827Z
DESCRIPTION:Join Red Lodge graduate\, Brady Canfield\, author and illustrat
 or of the comic series Wombat Rue to discover the benefits of using comics
  in teaching and break the decades old myth that comics are strictly juven
 ile.\n\nFREE presentation for educators - please RSVP to programs@carbonco
 untydepotgallery.org
DTSTART;TZID=America/Denver:20231024T160000
DTEND;TZID=America/Denver:20231024T173000
LOCATION:
SUMMARY:Comics in the Classroom
END:VEVENT
END:VCALENDAR
