BEGIN:VCALENDAR
VERSION:2.0
PRODID:-//carboncountydepotgallery.org//NONSGML kigkonsult.se iCalcreator 2
 .30.10//
CALSCALE:GREGORIAN
METHOD:PUBLISH
UID:f8cc69d5-27fe-4ae6-a716-9e6476279a4f
X-WR-CALDESC:Sequential Art creates stories using visual art combined with 
 written language such s comic strips\, comic books\, and graphic novels. T
 his workshop is for artists of any skill level\, from stick figures to DaV
 inci\, including writers to guide you in creating your own story in a grap
 hic novel format.\n\nThis workshop is presented by Brady Canfield of Brady
  Comics\, author and illustrator of the comic series Wombat Rue.\nCost is 
 $10\, (scholarships available for high school students)
X-WR-RELCALID:2596c82cf20e141e9954a38a109fe6a6
X-WR-TIMEZONE:America/Denver
BEGIN:VTIMEZONE
TZID:America/Denver
BEGIN:STANDARD
TZNAME:MST
DTSTART:20221106T020000
TZOFFSETFROM:-0600
TZOFFSETTO:-0700
RDATE:20231105T020000
RDATE:20241103T020000
END:STANDARD
BEGIN:DAYLIGHT
TZNAME:MDT
DTSTART:20230312T020000
TZOFFSETFROM:-0700
TZOFFSETTO:-0600
RDATE:20240310T020000
RDATE:20250309T020000
END:DAYLIGHT
END:VTIMEZONE
BEGIN:VEVENT
UID:72020b9b-f7c2-4c26-b1f7-b1fff217f814
DTSTAMP:20260419T181637Z
DESCRIPTION:Sequential Art creates stories using visual art combined with w
 ritten language such s comic strips\, comic books\, and graphic novels. Th
 is workshop is for artists of any skill level\, from stick figures to DaVi
 nci\, including writers to guide you in creating your own story in a graph
 ic novel format.\n\nThis workshop is presented by Brady Canfield of Brady 
 Comics\, author and illustrator of the comic series Wombat Rue.\nCost is $
 10\, (scholarships available for high school students)
DTSTART;TZID=America/Denver:20231024T140000
DTEND;TZID=America/Denver:20231024T153000
LOCATION:
SUMMARY:Sequential Art Workshop
END:VEVENT
END:VCALENDAR
