BEGIN:VCALENDAR
VERSION:2.0
PRODID:-//carboncountydepotgallery.org//NONSGML kigkonsult.se iCalcreator 2
 .30.10//
CALSCALE:GREGORIAN
METHOD:PUBLISH
UID:9286d458-96cd-4699-976c-442341ffcb3b
X-WR-CALDESC:Stop by the Depot Gallery on Sunday\, October 29 from 2-4 and 
 make your own Monster Treat Bag! FREE for kids age 2-6. Costumes encourage
 d!!
X-WR-RELCALID:bae42c20ca1a73afb66b71da6d2dd523
X-WR-TIMEZONE:America/Denver
BEGIN:VTIMEZONE
TZID:America/Denver
BEGIN:STANDARD
TZNAME:MST
DTSTART:20221106T020000
TZOFFSETFROM:-0600
TZOFFSETTO:-0700
RDATE:20231105T020000
RDATE:20241103T020000
END:STANDARD
BEGIN:DAYLIGHT
TZNAME:MDT
DTSTART:20230312T020000
TZOFFSETFROM:-0700
TZOFFSETTO:-0600
RDATE:20240310T020000
RDATE:20250309T020000
END:DAYLIGHT
END:VTIMEZONE
BEGIN:VEVENT
UID:5b1eb71f-d519-42d9-b38a-c6f6b8ef98bf
DTSTAMP:20260419T182209Z
DESCRIPTION:Stop by the Depot Gallery on Sunday\, October 29 from 2-4 and m
 ake your own Monster Treat Bag! FREE for kids age 2-6. Costumes encouraged
 !!
DTSTART;TZID=America/Denver:20231029T140000
DTEND;TZID=America/Denver:20231029T160000
LOCATION:
SUMMARY:Monster Party!
END:VEVENT
END:VCALENDAR
