BEGIN:VCALENDAR
VERSION:2.0
PRODID:-//carboncountydepotgallery.org//NONSGML kigkonsult.se iCalcreator 2
 .30.10//
CALSCALE:GREGORIAN
METHOD:PUBLISH
UID:50f19070-acbe-4929-ac70-bef3cc432117
X-WR-CALDESC:This traveling exhibition is on view in the main gallery at th
 e Carbon County Arts Guild. \n\n“Pop Cars” started as a scribble of Homer 
 Simpson on a daily-log sheet in February 2018 during a snow flurry in nort
 hwest North Dakota. Those lines etched on the back of a trucker’s daily lo
 g sheet soon called for a portrait of Homer and the seed for Pop Cars was 
 planted. From there\, the idea grew to encompass other pop culture figures
  who could get behind the “Pop Car” wheel. From a time-traveling Delorean 
 to the Renaissance Man’s ornithopter gliding along the current of Fibonacc
 i’s spiral\, each of the characters that Schroer places in his artwork are
  defined by their choice of vehicle. \n\nA “Pop Car” is an illustrated pop
 ular-culture character biography defined by his vehicle of choice with a p
 op art aesthetic. It fits into the larger genre of pop art-imagery used fr
 om mass culture\, popular advertising\, comic books\, and entertainment. T
 hey are created using mixed media illustration drawn on top of the truck s
 top log-sheet. Color pencils begin the sketch\, then drawing pens ink the 
 outline along with brushed India ink to give the artwork the comic book ae
 sthetic. The art is colored using colored pencil\, Prismacolor marker\, ch
 alk pastel\, or watercolor. The lettering is hand drawn using Micron pens 
 and a sewer’s ruler for spacing. The word bubbles are often rubber cemente
 d on using a multitude of bright colors. \n\nMack found his calling on a r
 anch in Berryton\, Kansas through comic books and animation. His love for 
 visual narrative evolved in illustration\, 2D animation\, and graphic desi
 gn. He graduated from Washburn University with a Bachelors of Fine Arts in
  Studio Art and Digital Design. At Rockhaven Films\, he helped direct the 
 company’s message through graphic design\, writing and storyboarding\, and
  motion graphic animation. Mack was awarded over twenty design and web awa
 rds by the Kansas Press Association for his work at the Osage County Heral
 d-Chronicle newspaper including the 2015 Kansas Advertisement Designer of 
 the Year. Mack currently works as an independent artist working in illustr
 ation\, oil painting\, 2D Animation\, storyboarding\, set design\, window 
 painting\, creative writing and acting at Macklin Art.\n\nThis exhibition 
 is sponsored by the Montana Art Gallery Directors Association (MAGDA)\, a 
 statewide service organization for non-profit museums & galleries\, and su
 pported in part by grants from the Montana Arts Council\, a state agency f
 unded by the State of Montana\; coal severance taxes paid based upon coal 
 mined in Montana and deposited in Montana's Cultural and Aesthetic Project
 s Trust Fund\; and the National Endowment for the Arts.\n\n'Pop Cars' is o
 rganized by the North Dakota Art Gallery Association (NDAGA)\, a nonprofit
  organization of galleries from the Upper Midwest that organizes touring e
 xhibitions from artist and institutional proposals\, holds workshops and e
 vents\, and promotes the arts.\n\n
X-WR-RELCALID:46ab092a237316e37360fe0a27c2026a
X-WR-TIMEZONE:America/Denver
BEGIN:VTIMEZONE
TZID:America/Denver
BEGIN:STANDARD
TZNAME:MST
DTSTART:20221106T020000
TZOFFSETFROM:-0600
TZOFFSETTO:-0700
RDATE:20231105T020000
RDATE:20241103T020000
END:STANDARD
BEGIN:DAYLIGHT
TZNAME:MDT
DTSTART:20230312T020000
TZOFFSETFROM:-0700
TZOFFSETTO:-0600
RDATE:20240310T020000
RDATE:20250309T020000
END:DAYLIGHT
END:VTIMEZONE
BEGIN:VEVENT
UID:fb209a42-2ac9-4688-9720-57ac742fceb7
DTSTAMP:20260419T164424Z
DESCRIPTION:This traveling exhibition is on view in the main gallery at the
  Carbon County Arts Guild. \n\n“Pop Cars” started as a scribble of Homer S
 impson on a daily-log sheet in February 2018 during a snow flurry in north
 west North Dakota. Those lines etched on the back of a trucker’s daily log
  sheet soon called for a portrait of Homer and the seed for Pop Cars was p
 lanted. From there\, the idea grew to encompass other pop culture figures 
 who could get behind the “Pop Car” wheel. From a time-traveling Delorean t
 o the Renaissance Man’s ornithopter gliding along the current of Fibonacci
 ’s spiral\, each of the characters that Schroer places in his artwork are 
 defined by their choice of vehicle. \n\nA “Pop Car” is an illustrated popu
 lar-culture character biography defined by his vehicle of choice with a po
 p art aesthetic. It fits into the larger genre of pop art-imagery used fro
 m mass culture\, popular advertising\, comic books\, and entertainment. Th
 ey are created using mixed media illustration drawn on top of the truck st
 op log-sheet. Color pencils begin the sketch\, then drawing pens ink the o
 utline along with brushed India ink to give the artwork the comic book aes
 thetic. The art is colored using colored pencil\, Prismacolor marker\, cha
 lk pastel\, or watercolor. The lettering is hand drawn using Micron pens a
 nd a sewer’s ruler for spacing. The word bubbles are often rubber cemented
  on using a multitude of bright colors. \n\nMack found his calling on a ra
 nch in Berryton\, Kansas through comic books and animation. His love for v
 isual narrative evolved in illustration\, 2D animation\, and graphic desig
 n. He graduated from Washburn University with a Bachelors of Fine Arts in 
 Studio Art and Digital Design. At Rockhaven Films\, he helped direct the c
 ompany’s message through graphic design\, writing and storyboarding\, and 
 motion graphic animation. Mack was awarded over twenty design and web awar
 ds by the Kansas Press Association for his work at the Osage County Herald
 -Chronicle newspaper including the 2015 Kansas Advertisement Designer of t
 he Year. Mack currently works as an independent artist working in illustra
 tion\, oil painting\, 2D Animation\, storyboarding\, set design\, window p
 ainting\, creative writing and acting at Macklin Art.\n\nThis exhibition i
 s sponsored by the Montana Art Gallery Directors Association (MAGDA)\, a s
 tatewide service organization for non-profit museums & galleries\, and sup
 ported in part by grants from the Montana Arts Council\, a state agency fu
 nded by the State of Montana\; coal severance taxes paid based upon coal m
 ined in Montana and deposited in Montana's Cultural and Aesthetic Projects
  Trust Fund\; and the National Endowment for the Arts.\n\n'Pop Cars' is or
 ganized by the North Dakota Art Gallery Association (NDAGA)\, a nonprofit 
 organization of galleries from the Upper Midwest that organizes touring ex
 hibitions from artist and institutional proposals\, holds workshops and ev
 ents\, and promotes the arts.\n\n
DTSTART;TZID=America/Denver:20231007T000000
DTEND;TZID=America/Denver:20231118T235900
LOCATION:
SUMMARY:POP Cars by Mack Schroer\, Sponsored by North Dakota Art Gallery As
 soc. and Montana Art Gallery Directors Assoc.
END:VEVENT
END:VCALENDAR
