BEGIN:VCALENDAR
VERSION:2.0
PRODID:-//carboncountydepotgallery.org//NONSGML kigkonsult.se iCalcreator 2
 .30.10//
CALSCALE:GREGORIAN
METHOD:PUBLISH
UID:e99cd117-2bd8-4f8e-9bb2-d8d50a10fea9
X-WR-CALDESC:The Holiday Bazaar at the Carbon County Arts Guild features a 
 number of beautiful items that make great gifts. Holiday cards\, small wor
 ks\, jewelry\, ornaments\, wearable art\, and so much more. \n\n
X-WR-RELCALID:d208e40609ece36f6593d284efd63955
X-WR-TIMEZONE:America/Denver
BEGIN:VTIMEZONE
TZID:America/Denver
BEGIN:STANDARD
TZNAME:MST
DTSTART:20231105T020000
TZOFFSETFROM:-0600
TZOFFSETTO:-0700
RDATE:20241103T020000
END:STANDARD
BEGIN:DAYLIGHT
TZNAME:MDT
DTSTART:20230312T020000
TZOFFSETFROM:-0700
TZOFFSETTO:-0600
RDATE:20240310T020000
RDATE:20250309T020000
END:DAYLIGHT
END:VTIMEZONE
BEGIN:VEVENT
UID:5507e792-6219-40bd-a3e3-dacc1fb835f1
DTSTAMP:20260419T164446Z
DESCRIPTION:The Holiday Bazaar at the Carbon County Arts Guild features a n
 umber of beautiful items that make great gifts. Holiday cards\, small work
 s\, jewelry\, ornaments\, wearable art\, and so much more. \n\n
DTSTART;TZID=America/Denver:20231124T040000
DTEND;TZID=America/Denver:20231230T040001
LOCATION:
SUMMARY:Holiday Bazaar
END:VEVENT
END:VCALENDAR
