BEGIN:VCALENDAR
VERSION:2.0
PRODID:-//carboncountydepotgallery.org//NONSGML kigkonsult.se iCalcreator 2
 .30.10//
CALSCALE:GREGORIAN
METHOD:PUBLISH
UID:7b97320c-cbe3-4904-aa1e-5ab9229f7bf5
X-WR-CALDESC:This Guild exhibition features amazing art work. Each piece is
  8' x 8' in size. Subject matter varies. Buy a piece for your home\, cabin
 \, or as a gift. This is a cash and carry exhibition meaning people are we
 lcome to buy the piece and take it home on the spot. Shipping options are 
 available. Don’t wait because pieces get sold every day.\n
X-WR-RELCALID:c8f45a8e708aa9557c62a0d91c0a43c4
X-WR-TIMEZONE:America/Denver
BEGIN:VTIMEZONE
TZID:America/Denver
BEGIN:STANDARD
TZNAME:MST
DTSTART:20231105T020000
TZOFFSETFROM:-0600
TZOFFSETTO:-0700
RDATE:20241103T020000
END:STANDARD
BEGIN:DAYLIGHT
TZNAME:MDT
DTSTART:20230312T020000
TZOFFSETFROM:-0700
TZOFFSETTO:-0600
RDATE:20240310T020000
RDATE:20250309T020000
END:DAYLIGHT
END:VTIMEZONE
BEGIN:VEVENT
UID:12702736-6c8c-47da-ae22-a5dc79794ca3
DTSTAMP:20260419T164424Z
DESCRIPTION:This Guild exhibition features amazing art work. Each piece is 
 8' x 8' in size. Subject matter varies. Buy a piece for your home\, cabin\
 , or as a gift. This is a cash and carry exhibition meaning people are wel
 come to buy the piece and take it home on the spot. Shipping options are a
 vailable. Don’t wait because pieces get sold every day.\n
DTSTART;TZID=America/Denver:20231124T100000
DTEND;TZID=America/Denver:20231230T170000
LOCATION:
SUMMARY:8x8 Exhibition
END:VEVENT
END:VCALENDAR
