BEGIN:VCALENDAR
VERSION:2.0
PRODID:-//carboncountydepotgallery.org//NONSGML kigkonsult.se iCalcreator 2
 .30.10//
CALSCALE:GREGORIAN
METHOD:PUBLISH
UID:e1d5342d-ca39-4325-bf26-881c840b9d1f
X-WR-CALDESC:Five local residents will open up their homes to show their pr
 ivate art collections and holiday decor during Saturday of the Christmas S
 troll. \n\nOne artist will be at each home to welcome visitors\, share the
 ir work\, and talk about art in the collection. Participating artists are 
 Ty Barhaug (Cody\, WY)\, Elliott Eaton (Red Lodge)\, Lance Johnson (Billin
 gs)\, Mike Kosorok (Red Lodge)\, and John Potter (Red Lodge). Homes on thi
 s self-guided tour are in the Hi-bug area of downtown Red Lodge and on the
  golf course.  A ticket must be presented at the door to tour the home. Li
 ght refreshments will be available. \n\nTickets are $25 per person (non-re
 fundable) \n\nOnce a ticket is purchased online or in-person at the Arts G
 uild you will be given a map to the homes on the tour.All tickets bought o
 nline after Monday\, November 27 will need to be picked up at the Carbon C
 ounty Arts Guild at 11 W 8th Street\, Red Lodge.  \n\nLimited tickets are 
 available. So\, don't delay!\n\nChristmas Stroll Weekend Hours:  10 a.m.-5
 p.m. Thursday\; 10 a.m.-7 p.m. Friday and Saturday\; 12-4 p.m. Sunday and 
 Monday
X-WR-RELCALID:7fe3f75578eb8f61ab3f0331423f8031
X-WR-TIMEZONE:America/Denver
BEGIN:VTIMEZONE
TZID:America/Denver
BEGIN:STANDARD
TZNAME:MST
DTSTART:20231105T020000
TZOFFSETFROM:-0600
TZOFFSETTO:-0700
RDATE:20241103T020000
END:STANDARD
BEGIN:DAYLIGHT
TZNAME:MDT
DTSTART:20230312T020000
TZOFFSETFROM:-0700
TZOFFSETTO:-0600
RDATE:20240310T020000
RDATE:20250309T020000
END:DAYLIGHT
END:VTIMEZONE
BEGIN:VEVENT
UID:0b5c22f4-77ef-4b2b-b47d-875544fdd4cb
DTSTAMP:20260419T151337Z
DESCRIPTION:Five local residents will open up their homes to show their pri
 vate art collections and holiday decor during Saturday of the Christmas St
 roll. \n\nOne artist will be at each home to welcome visitors\, share thei
 r work\, and talk about art in the collection. Participating artists are T
 y Barhaug (Cody\, WY)\, Elliott Eaton (Red Lodge)\, Lance Johnson (Billing
 s)\, Mike Kosorok (Red Lodge)\, and John Potter (Red Lodge). Homes on this
  self-guided tour are in the Hi-bug area of downtown Red Lodge and on the 
 golf course.  A ticket must be presented at the door to tour the home. Lig
 ht refreshments will be available. \n\nTickets are $25 per person (non-ref
 undable) \n\nOnce a ticket is purchased online or in-person at the Arts Gu
 ild you will be given a map to the homes on the tour.All tickets bought on
 line after Monday\, November 27 will need to be picked up at the Carbon Co
 unty Arts Guild at 11 W 8th Street\, Red Lodge.  \n\nLimited tickets are a
 vailable. So\, don't delay!\n\nChristmas Stroll Weekend Hours:  10 a.m.-5p
 .m. Thursday\; 10 a.m.-7 p.m. Friday and Saturday\; 12-4 p.m. Sunday and M
 onday
DTSTART;TZID=America/Denver:20231202T120000
DTEND;TZID=America/Denver:20231202T160000
LOCATION:various Red Lodge Locations
SUMMARY:Holiday Home & Art Tour
END:VEVENT
END:VCALENDAR
